{"text_format":"1","workbook":"xlsx","n_sheets":5,"sheets":["Prüfung 1 | Startliste","Prüfung 1 | Rangliste","Prüfung 2 | Startliste","Prüfung 2 | Rangliste","dropdownliste"],"not_rendered":{"charts":0,"images":0,"macros":1,"external_links":0,"defined_names":0,"comments":0,"pivot_tables":0},"unopened":[],"bounds":{"document_bytes":16777216,"sheet_cells":100000,"rows_first":2000,"rows_last":500,"rows_between":2000,"halvings":0,"cell_chars":16384,"cell_head_chars":4096},"cells_cut":0,"cells_raw":0,"read":"whole","date_system":"1900"}

{"sheet":"Prüfung 1 | Startliste","index":0,"n_rows":97,"n_cols":9,"rows_kept":97,"cut":false,"hidden":false,"merged":[[2,0,2,2],[4,0,4,3],[3,0,3,4],[1,0,1,8],[0,0,0,8]]}
["Turniername"]
["STARTLISTE mit Resultate"]
["Samstag, 16. April 2021"]
["Preis der....",null,null,null,null,null,"Prüfung-Nr.:",null,1]
["Kategorie"]
["2 Phasen für alle?",null,"nein"]
["HC/NS","Start-Nr.","ReiterIn","Pferd","Fehler Umg. 1","Zeit Umg. 1","Fehler Umg. 2","Zeit Umg. 2","Fehler Total"]
[null,1,null,null,null,null,null,null,{"$f":"IF(C8=\"\",\"\",IF(H8=\"\",\"\",IF(C$6=\"Nein\",\"\",(E8+G8))))","v":""}]
[null,{"$f":"B8+1","v":2},null,null,null,null,null,null,{"$f":"IF(C9=\"\",\"\",IF(H9=\"\",\"\",IF(C$6=\"Nein\",\"\",(E9+G9))))","v":""}]
[null,{"$f":"B9+1","v":3},null,null,null,null,null,null,""]
[null,4,null,null,null,null,null,null,""]
[null,5,null,null,null,null,null,null,""]
[null,6,null,null,null,null,null,null,""]
[null,7,null,null,null,null,null,null,""]
[null,8,null,null,null,null,null,null,""]
[null,9,null,null,null,null,null,null,""]
[null,10,null,null,null,null,null,null,""]
[null,11,null,null,null,null,null,null,""]
[null,12,null,null,null,null,null,null,""]
[null,13,null,null,null,null,null,null,""]
[null,14,null,null,null,null,null,null,""]
[null,15,null,null,null,null,null,null,""]
[null,16,null,null,null,null,null,null,""]
[null,17,null,null,null,null,null,null,""]
[null,18,null,null,null,null,null,null,""]
[null,19,null,null,null,null,null,null,""]
[null,20,null,null,null,null,null,null,""]
[null,21,null,null,null,null,null,null,""]
[null,22,null,null,null,null,null,null,""]
[null,23,null,null,null,null,null,null,""]
[null,24,null,null,null,null,null,null,""]
[null,25,null,null,null,null,null,null,""]
[null,26,null,null,null,null,null,null,""]
[null,27,null,null,null,null,null,null,""]
[null,28,null,null,null,null,null,null,""]
[null,29,null,null,null,null,null,null,""]
[null,30,null,null,null,null,null,null,""]
[null,31,null,null,null,null,null,null,""]
[null,32,null,null,null,null,null,null,""]
[null,33,null,null,null,null,null,null,""]
[null,34,null,null,null,null,null,null,""]
[null,35,null,null,null,null,null,null,""]
[null,36,null,null,null,null,null,null,""]
[null,37,null,null,null,null,null,null,""]
[null,38,null,null,null,null,null,null,""]
[null,39,null,null,null,null,null,null,""]
[null,40,null,null,null,null,null,null,""]
[null,41,null,null,null,null,null,null,""]
[null,42,null,null,null,null,null,null,""]
[null,43,null,null,null,null,null,null,""]
[null,44,null,null,null,null,null,null,""]
[null,45,null,null,null,null,null,null,""]
[null,46,null,null,null,null,null,null,""]
[null,47,null,null,null,null,null,null,""]
[null,48,null,null,null,null,null,null,""]
[null,49,null,null,null,null,null,null,""]
[null,50,null,null,null,null,null,null,""]
[null,51,null,null,null,null,null,null,""]
[null,52,null,null,null,null,null,null,""]
[null,53,null,null,null,null,null,null,""]
[null,54,null,null,null,null,null,null,""]
[null,55,null,null,null,null,null,null,""]
[null,56,null,null,null,null,null,null,""]
[null,57,null,null,null,null,null,null,""]
[null,58,null,null,null,null,null,null,""]
[null,59,null,null,null,null,null,null,""]
[null,60,null,null,null,null,null,null,""]
[null,61,null,null,null,null,null,null,""]
[null,62,null,null,null,null,null,null,""]
[null,63,null,null,null,null,null,null,""]
[null,64,null,null,null,null,null,null,""]
[null,65,null,null,null,null,null,null,""]
[null,66,null,null,null,null,null,null,{"$f":"IF(C73=\"\",\"\",IF(H73=\"\",\"\",IF(C$6=\"Nein\",\"\",(E73+G73))))","v":""}]
[null,{"$f":"B73+1","v":67},null,null,null,null,null,null,""]
[null,68,null,null,null,null,null,null,""]
[null,69,null,null,null,null,null,null,""]
[null,70,null,null,null,null,null,null,""]
[null,71,null,null,null,null,null,null,""]
[null,72,null,null,null,null,null,null,""]
[null,73,null,null,null,null,null,null,""]
[null,74,null,null,null,null,null,null,""]
[null,75,null,null,null,null,null,null,""]
[null,76,null,null,null,null,null,null,""]
[null,77,null,null,null,null,null,null,""]
[null,78,null,null,null,null,null,null,""]
[null,79,null,null,null,null,null,null,""]
[null,80,null,null,null,null,null,null,""]
[null,81,null,null,null,null,null,null,""]
[null,82,null,null,null,null,null,null,""]
[null,83,null,null,null,null,null,null,""]
[null,84,null,null,null,null,null,null,""]
[null,85,null,null,null,null,null,null,""]
[null,86,null,null,null,null,null,null,""]
[null,87,null,null,null,null,null,null,""]
[null,88,null,null,null,null,null,null,""]
[null,89,null,null,null,null,null,null,""]
[null,90,null,null,null,null,null,null,""]

{"sheet":"Prüfung 1 | Rangliste","index":1,"n_rows":97,"n_cols":11,"rows_kept":97,"cut":false,"hidden":false,"merged":[[1,1,1,9],[2,1,2,3],[3,1,3,5],[4,1,4,4],[0,1,0,9]]}
[null,{"$f":"'Prüfung 1 | Startliste'!A1","v":"Turniername"}]
[null,"RANGLISTE"]
[null,{"$f":"'Prüfung 1 | Startliste'!A3","v":"Samstag, 16. April 2021"}]
[null,{"$f":"'Prüfung 1 | Startliste'!A4","v":"Preis der...."},null,null,null,null,null,"Prüfung-Nr.:",null,{"$f":"'Prüfung 1 | Startliste'!I4","v":1}]
[null,{"$f":"'Prüfung 1 | Startliste'!A5","v":"Kategorie"}]
[null,"2 Phasen für alle?",null,{"$f":"'Prüfung 1 | Startliste'!C6","v":"nein"}]
[0,"Rang","HC/NS","ReiterIn","Pferd","Fehler Umg. 1","Zeit Umg. 1","Fehler Umg. 2","Zeit Umg. 2","Fehler Total"]
[{"$f":"IF(B8<=A$7,\"kl.\",\"\")","v":""},1,{"$f":"IF('Prüfung 1 | Startliste'!A8=\"\",\"\",'Prüfung 1 | Startliste'!A8)","v":""},{"$f":"IF('Prüfung 1 | Startliste'!C8=\"\",\"\",'Prüfung 1 | Startliste'!C8)","v":""},{"$f":"IF('Prüfung 1 | Startliste'!D8=\"\",\"\",'Prüfung 1 | Startliste'!D8)","v":""},{"$f":"IF('Prüfung 1 | Startliste'!E8=\"\",\"\",'Prüfung 1 | Startliste'!E8)","v":""},{"$f":"IF('Prüfung 1 | Startliste'!F8=\"\",\"\",'Prüfung 1 | Startliste'!F8)","v":""},{"$f":"IF('Prüfung 1 | Startliste'!G8=\"\",\"\",'Prüfung 1 | Startliste'!G8)","v":""},{"$f":"IF('Prüfung 1 | Startliste'!H8=\"\",\"\",'Prüfung 1 | Startliste'!H8)","v":""},{"$f":"IF(D$6=\"Nein\",\"\",IF(I8=\"\",\"\",(F8+H8)))","v":""},{"$f":"IF(D8=\"\",4,IF(C8=\"\",1,IF(C8=\"HC\",2,IF(AC8=\"NS\",3,\"\"))))","v":4}]
[{"$f":"IF(B9<=A$7,\"kl.\",\"\")","v":""},{"$f":"B8+1","v":2},{"$f":"IF('Prüfung 1 | Startliste'!A9=\"\",\"\",'Prüfung 1 | Startliste'!A9)","v":""},{"$f":"IF('Prüfung 1 | Startliste'!C9=\"\",\"\",'Prüfung 1 | Startliste'!C9)","v":""},{"$f":"IF('Prüfung 1 | Startliste'!D9=\"\",\"\",'Prüfung 1 | Startliste'!D9)","v":""},{"$f":"IF('Prüfung 1 | Startliste'!E9=\"\",\"\",'Prüfung 1 | Startliste'!E9)","v":""},{"$f":"IF('Prüfung 1 | Startliste'!F9=\"\",\"\",'Prüfung 1 | Startliste'!F9)","v":""},{"$f":"IF('Prüfung 1 | Startliste'!G9=\"\",\"\",'Prüfung 1 | Startliste'!G9)","v":""},{"$f":"IF('Prüfung 1 | Startliste'!H9=\"\",\"\",'Prüfung 1 | Startliste'!H9)","v":""},"",4]
["",3,{"$f":"IF('Prüfung 1 | Startliste'!A10=\"\",\"\",'Prüfung 1 | Startliste'!A10)","v":""},{"$f":"IF('Prüfung 1 | Startliste'!C10=\"\",\"\",'Prüfung 1 | Startliste'!C10)","v":""},{"$f":"IF('Prüfung 1 | Startliste'!D10=\"\",\"\",'Prüfung 1 | Startliste'!D10)","v":""},{"$f":"IF('Prüfung 1 | Startliste'!E10=\"\",\"\",'Prüfung 1 | Startliste'!E10)","v":""},{"$f":"IF('Prüfung 1 | Startliste'!F10=\"\",\"\",'Prüfung 1 | Startliste'!F10)","v":""},{"$f":"IF('Prüfung 1 | Startliste'!G10=\"\",\"\",'Prüfung 1 | Startliste'!G10)","v":""},{"$f":"IF('Prüfung 1 | Startliste'!H10=\"\",\"\",'Prüfung 1 | Startliste'!H10)","v":""},"",4]
["",4,{"$f":"IF('Prüfung 1 | Startliste'!A11=\"\",\"\",'Prüfung 1 | Startliste'!A11)","v":""},{"$f":"IF('Prüfung 1 | Startliste'!C11=\"\",\"\",'Prüfung 1 | Startliste'!C11)","v":""},{"$f":"IF('Prüfung 1 | Startliste'!D11=\"\",\"\",'Prüfung 1 | Startliste'!D11)","v":""},{"$f":"IF('Prüfung 1 | Startliste'!E11=\"\",\"\",'Prüfung 1 | Startliste'!E11)","v":""},{"$f":"IF('Prüfung 1 | Startliste'!F11=\"\",\"\",'Prüfung 1 | Startliste'!F11)","v":""},{"$f":"IF('Prüfung 1 | Startliste'!G11=\"\",\"\",'Prüfung 1 | Startliste'!G11)","v":""},{"$f":"IF('Prüfung 1 | Startliste'!H11=\"\",\"\",'Prüfung 1 | Startliste'!H11)","v":""},"",4]
["",5,{"$f":"IF('Prüfung 1 | Startliste'!A12=\"\",\"\",'Prüfung 1 | Startliste'!A12)","v":""},{"$f":"IF('Prüfung 1 | Startliste'!C12=\"\",\"\",'Prüfung 1 | Startliste'!C12)","v":""},{"$f":"IF('Prüfung 1 | Startliste'!D12=\"\",\"\",'Prüfung 1 | Startliste'!D12)","v":""},{"$f":"IF('Prüfung 1 | Startliste'!E12=\"\",\"\",'Prüfung 1 | Startliste'!E12)","v":""},{"$f":"IF('Prüfung 1 | Startliste'!F12=\"\",\"\",'Prüfung 1 | Startliste'!F12)","v":""},{"$f":"IF('Prüfung 1 | Startliste'!G12=\"\",\"\",'Prüfung 1 | Startliste'!G12)","v":""},{"$f":"IF('Prüfung 1 | Startliste'!H12=\"\",\"\",'Prüfung 1 | Startliste'!H12)","v":""},"",4]
["",6,{"$f":"IF('Prüfung 1 | Startliste'!A13=\"\",\"\",'Prüfung 1 | Startliste'!A13)","v":""},{"$f":"IF('Prüfung 1 | Startliste'!C13=\"\",\"\",'Prüfung 1 | Startliste'!C13)","v":""},{"$f":"IF('Prüfung 1 | Startliste'!D13=\"\",\"\",'Prüfung 1 | Startliste'!D13)","v":""},{"$f":"IF('Prüfung 1 | Startliste'!E13=\"\",\"\",'Prüfung 1 | Startliste'!E13)","v":""},{"$f":"IF('Prüfung 1 | Startliste'!F13=\"\",\"\",'Prüfung 1 | Startliste'!F13)","v":""},{"$f":"IF('Prüfung 1 | Startliste'!G13=\"\",\"\",'Prüfung 1 | Startliste'!G13)","v":""},{"$f":"IF('Prüfung 1 | Startliste'!H13=\"\",\"\",'Prüfung 1 | Startliste'!H13)","v":""},"",4]
["",7,{"$f":"IF('Prüfung 1 | Startliste'!A14=\"\",\"\",'Prüfung 1 | Startliste'!A14)","v":""},{"$f":"IF('Prüfung 1 | Startliste'!C14=\"\",\"\",'Prüfung 1 | Startliste'!C14)","v":""},{"$f":"IF('Prüfung 1 | Startliste'!D14=\"\",\"\",'Prüfung 1 | Startliste'!D14)","v":""},{"$f":"IF('Prüfung 1 | Startliste'!E14=\"\",\"\",'Prüfung 1 | Startliste'!E14)","v":""},{"$f":"IF('Prüfung 1 | Startliste'!F14=\"\",\"\",'Prüfung 1 | Startliste'!F14)","v":""},{"$f":"IF('Prüfung 1 | Startliste'!G14=\"\",\"\",'Prüfung 1 | Startliste'!G14)","v":""},{"$f":"IF('Prüfung 1 | Startliste'!H14=\"\",\"\",'Prüfung 1 | Startliste'!H14)","v":""},"",4]
["",8,{"$f":"IF('Prüfung 1 | Startliste'!A15=\"\",\"\",'Prüfung 1 | Startliste'!A15)","v":""},{"$f":"IF('Prüfung 1 | Startliste'!C15=\"\",\"\",'Prüfung 1 | Startliste'!C15)","v":""},{"$f":"IF('Prüfung 1 | Startliste'!D15=\"\",\"\",'Prüfung 1 | Startliste'!D15)","v":""},{"$f":"IF('Prüfung 1 | Startliste'!E15=\"\",\"\",'Prüfung 1 | Startliste'!E15)","v":""},{"$f":"IF('Prüfung 1 | Startliste'!F15=\"\",\"\",'Prüfung 1 | Startliste'!F15)","v":""},{"$f":"IF('Prüfung 1 | Startliste'!G15=\"\",\"\",'Prüfung 1 | Startliste'!G15)","v":""},{"$f":"IF('Prüfung 1 | Startliste'!H15=\"\",\"\",'Prüfung 1 | Startliste'!H15)","v":""},"",4]
["",9,{"$f":"IF('Prüfung 1 | Startliste'!A16=\"\",\"\",'Prüfung 1 | Startliste'!A16)","v":""},{"$f":"IF('Prüfung 1 | Startliste'!C16=\"\",\"\",'Prüfung 1 | Startliste'!C16)","v":""},{"$f":"IF('Prüfung 1 | Startliste'!D16=\"\",\"\",'Prüfung 1 | Startliste'!D16)","v":""},{"$f":"IF('Prüfung 1 | Startliste'!E16=\"\",\"\",'Prüfung 1 | Startliste'!E16)","v":""},{"$f":"IF('Prüfung 1 | Startliste'!F16=\"\",\"\",'Prüfung 1 | Startliste'!F16)","v":""},{"$f":"IF('Prüfung 1 | Startliste'!G16=\"\",\"\",'Prüfung 1 | Startliste'!G16)","v":""},{"$f":"IF('Prüfung 1 | Startliste'!H16=\"\",\"\",'Prüfung 1 | Startliste'!H16)","v":""},"",4]
["",10,{"$f":"IF('Prüfung 1 | Startliste'!A17=\"\",\"\",'Prüfung 1 | Startliste'!A17)","v":""},{"$f":"IF('Prüfung 1 | Startliste'!C17=\"\",\"\",'Prüfung 1 | Startliste'!C17)","v":""},{"$f":"IF('Prüfung 1 | Startliste'!D17=\"\",\"\",'Prüfung 1 | Startliste'!D17)","v":""},{"$f":"IF('Prüfung 1 | Startliste'!E17=\"\",\"\",'Prüfung 1 | Startliste'!E17)","v":""},{"$f":"IF('Prüfung 1 | Startliste'!F17=\"\",\"\",'Prüfung 1 | Startliste'!F17)","v":""},{"$f":"IF('Prüfung 1 | Startliste'!G17=\"\",\"\",'Prüfung 1 | Startliste'!G17)","v":""},{"$f":"IF('Prüfung 1 | Startliste'!H17=\"\",\"\",'Prüfung 1 | Startliste'!H17)","v":""},"",4]
["",11,{"$f":"IF('Prüfung 1 | Startliste'!A18=\"\",\"\",'Prüfung 1 | Startliste'!A18)","v":""},{"$f":"IF('Prüfung 1 | Startliste'!C18=\"\",\"\",'Prüfung 1 | Startliste'!C18)","v":""},{"$f":"IF('Prüfung 1 | Startliste'!D18=\"\",\"\",'Prüfung 1 | Startliste'!D18)","v":""},{"$f":"IF('Prüfung 1 | Startliste'!E18=\"\",\"\",'Prüfung 1 | Startliste'!E18)","v":""},{"$f":"IF('Prüfung 1 | Startliste'!F18=\"\",\"\",'Prüfung 1 | Startliste'!F18)","v":""},{"$f":"IF('Prüfung 1 | Startliste'!G18=\"\",\"\",'Prüfung 1 | Startliste'!G18)","v":""},{"$f":"IF('Prüfung 1 | Startliste'!H18=\"\",\"\",'Prüfung 1 | Startliste'!H18)","v":""},"",4]
["",12,{"$f":"IF('Prüfung 1 | Startliste'!A19=\"\",\"\",'Prüfung 1 | Startliste'!A19)","v":""},{"$f":"IF('Prüfung 1 | Startliste'!C19=\"\",\"\",'Prüfung 1 | Startliste'!C19)","v":""},{"$f":"IF('Prüfung 1 | Startliste'!D19=\"\",\"\",'Prüfung 1 | Startliste'!D19)","v":""},{"$f":"IF('Prüfung 1 | Startliste'!E19=\"\",\"\",'Prüfung 1 | Startliste'!E19)","v":""},{"$f":"IF('Prüfung 1 | Startliste'!F19=\"\",\"\",'Prüfung 1 | Startliste'!F19)","v":""},{"$f":"IF('Prüfung 1 | Startliste'!G19=\"\",\"\",'Prüfung 1 | Startliste'!G19)","v":""},{"$f":"IF('Prüfung 1 | Startliste'!H19=\"\",\"\",'Prüfung 1 | Startliste'!H19)","v":""},"",4]
["",13,{"$f":"IF('Prüfung 1 | Startliste'!A20=\"\",\"\",'Prüfung 1 | Startliste'!A20)","v":""},{"$f":"IF('Prüfung 1 | Startliste'!C20=\"\",\"\",'Prüfung 1 | Startliste'!C20)","v":""},{"$f":"IF('Prüfung 1 | Startliste'!D20=\"\",\"\",'Prüfung 1 | Startliste'!D20)","v":""},{"$f":"IF('Prüfung 1 | Startliste'!E20=\"\",\"\",'Prüfung 1 | Startliste'!E20)","v":""},{"$f":"IF('Prüfung 1 | Startliste'!F20=\"\",\"\",'Prüfung 1 | Startliste'!F20)","v":""},{"$f":"IF('Prüfung 1 | Startliste'!G20=\"\",\"\",'Prüfung 1 | Startliste'!G20)","v":""},{"$f":"IF('Prüfung 1 | Startliste'!H20=\"\",\"\",'Prüfung 1 | Startliste'!H20)","v":""},"",4]
["",14,{"$f":"IF('Prüfung 1 | Startliste'!A21=\"\",\"\",'Prüfung 1 | Startliste'!A21)","v":""},{"$f":"IF('Prüfung 1 | Startliste'!C21=\"\",\"\",'Prüfung 1 | Startliste'!C21)","v":""},{"$f":"IF('Prüfung 1 | Startliste'!D21=\"\",\"\",'Prüfung 1 | Startliste'!D21)","v":""},{"$f":"IF('Prüfung 1 | Startliste'!E21=\"\",\"\",'Prüfung 1 | Startliste'!E21)","v":""},{"$f":"IF('Prüfung 1 | Startliste'!F21=\"\",\"\",'Prüfung 1 | Startliste'!F21)","v":""},{"$f":"IF('Prüfung 1 | Startliste'!G21=\"\",\"\",'Prüfung 1 | Startliste'!G21)","v":""},{"$f":"IF('Prüfung 1 | Startliste'!H21=\"\",\"\",'Prüfung 1 | Startliste'!H21)","v":""},"",4]
["",15,{"$f":"IF('Prüfung 1 | Startliste'!A22=\"\",\"\",'Prüfung 1 | Startliste'!A22)","v":""},{"$f":"IF('Prüfung 1 | Startliste'!C22=\"\",\"\",'Prüfung 1 | Startliste'!C22)","v":""},{"$f":"IF('Prüfung 1 | Startliste'!D22=\"\",\"\",'Prüfung 1 | Startliste'!D22)","v":""},{"$f":"IF('Prüfung 1 | Startliste'!E22=\"\",\"\",'Prüfung 1 | Startliste'!E22)","v":""},{"$f":"IF('Prüfung 1 | Startliste'!F22=\"\",\"\",'Prüfung 1 | Startliste'!F22)","v":""},{"$f":"IF('Prüfung 1 | Startliste'!G22=\"\",\"\",'Prüfung 1 | Startliste'!G22)","v":""},{"$f":"IF('Prüfung 1 | Startliste'!H22=\"\",\"\",'Prüfung 1 | Startliste'!H22)","v":""},"",4]
["",16,{"$f":"IF('Prüfung 1 | Startliste'!A23=\"\",\"\",'Prüfung 1 | Startliste'!A23)","v":""},{"$f":"IF('Prüfung 1 | Startliste'!C23=\"\",\"\",'Prüfung 1 | Startliste'!C23)","v":""},{"$f":"IF('Prüfung 1 | Startliste'!D23=\"\",\"\",'Prüfung 1 | Startliste'!D23)","v":""},{"$f":"IF('Prüfung 1 | Startliste'!E23=\"\",\"\",'Prüfung 1 | Startliste'!E23)","v":""},{"$f":"IF('Prüfung 1 | Startliste'!F23=\"\",\"\",'Prüfung 1 | Startliste'!F23)","v":""},{"$f":"IF('Prüfung 1 | Startliste'!G23=\"\",\"\",'Prüfung 1 | Startliste'!G23)","v":""},{"$f":"IF('Prüfung 1 | Startliste'!H23=\"\",\"\",'Prüfung 1 | Startliste'!H23)","v":""},"",4]
["",17,{"$f":"IF('Prüfung 1 | Startliste'!A24=\"\",\"\",'Prüfung 1 | Startliste'!A24)","v":""},{"$f":"IF('Prüfung 1 | Startliste'!C24=\"\",\"\",'Prüfung 1 | Startliste'!C24)","v":""},{"$f":"IF('Prüfung 1 | Startliste'!D24=\"\",\"\",'Prüfung 1 | Startliste'!D24)","v":""},{"$f":"IF('Prüfung 1 | Startliste'!E24=\"\",\"\",'Prüfung 1 | Startliste'!E24)","v":""},{"$f":"IF('Prüfung 1 | Startliste'!F24=\"\",\"\",'Prüfung 1 | Startliste'!F24)","v":""},{"$f":"IF('Prüfung 1 | Startliste'!G24=\"\",\"\",'Prüfung 1 | Startliste'!G24)","v":""},{"$f":"IF('Prüfung 1 | Startliste'!H24=\"\",\"\",'Prüfung 1 | Startliste'!H24)","v":""},"",4]
["",18,{"$f":"IF('Prüfung 1 | Startliste'!A25=\"\",\"\",'Prüfung 1 | Startliste'!A25)","v":""},{"$f":"IF('Prüfung 1 | Startliste'!C25=\"\",\"\",'Prüfung 1 | Startliste'!C25)","v":""},{"$f":"IF('Prüfung 1 | Startliste'!D25=\"\",\"\",'Prüfung 1 | Startliste'!D25)","v":""},{"$f":"IF('Prüfung 1 | Startliste'!E25=\"\",\"\",'Prüfung 1 | Startliste'!E25)","v":""},{"$f":"IF('Prüfung 1 | Startliste'!F25=\"\",\"\",'Prüfung 1 | Startliste'!F25)","v":""},{"$f":"IF('Prüfung 1 | Startliste'!G25=\"\",\"\",'Prüfung 1 | Startliste'!G25)","v":""},{"$f":"IF('Prüfung 1 | Startliste'!H25=\"\",\"\",'Prüfung 1 | Startliste'!H25)","v":""},"",4]
["",19,{"$f":"IF('Prüfung 1 | Startliste'!A26=\"\",\"\",'Prüfung 1 | Startliste'!A26)","v":""},{"$f":"IF('Prüfung 1 | Startliste'!C26=\"\",\"\",'Prüfung 1 | Startliste'!C26)","v":""},{"$f":"IF('Prüfung 1 | Startliste'!D26=\"\",\"\",'Prüfung 1 | Startliste'!D26)","v":""},{"$f":"IF('Prüfung 1 | Startliste'!E26=\"\",\"\",'Prüfung 1 | Startliste'!E26)","v":""},{"$f":"IF('Prüfung 1 | Startliste'!F26=\"\",\"\",'Prüfung 1 | Startliste'!F26)","v":""},{"$f":"IF('Prüfung 1 | Startliste'!G26=\"\",\"\",'Prüfung 1 | Startliste'!G26)","v":""},{"$f":"IF('Prüfung 1 | Startliste'!H26=\"\",\"\",'Prüfung 1 | Startliste'!H26)","v":""},"",4]
["",20,{"$f":"IF('Prüfung 1 | Startliste'!A27=\"\",\"\",'Prüfung 1 | Startliste'!A27)","v":""},{"$f":"IF('Prüfung 1 | Startliste'!C27=\"\",\"\",'Prüfung 1 | Startliste'!C27)","v":""},{"$f":"IF('Prüfung 1 | Startliste'!D27=\"\",\"\",'Prüfung 1 | Startliste'!D27)","v":""},{"$f":"IF('Prüfung 1 | Startliste'!E27=\"\",\"\",'Prüfung 1 | Startliste'!E27)","v":""},{"$f":"IF('Prüfung 1 | Startliste'!F27=\"\",\"\",'Prüfung 1 | Startliste'!F27)","v":""},{"$f":"IF('Prüfung 1 | Startliste'!G27=\"\",\"\",'Prüfung 1 | Startliste'!G27)","v":""},{"$f":"IF('Prüfung 1 | Startliste'!H27=\"\",\"\",'Prüfung 1 | Startliste'!H27)","v":""},"",4]
["",21,{"$f":"IF('Prüfung 1 | Startliste'!A28=\"\",\"\",'Prüfung 1 | Startliste'!A28)","v":""},{"$f":"IF('Prüfung 1 | Startliste'!C28=\"\",\"\",'Prüfung 1 | Startliste'!C28)","v":""},{"$f":"IF('Prüfung 1 | Startliste'!D28=\"\",\"\",'Prüfung 1 | Startliste'!D28)","v":""},{"$f":"IF('Prüfung 1 | Startliste'!E28=\"\",\"\",'Prüfung 1 | Startliste'!E28)","v":""},{"$f":"IF('Prüfung 1 | Startliste'!F28=\"\",\"\",'Prüfung 1 | Startliste'!F28)","v":""},{"$f":"IF('Prüfung 1 | Startliste'!G28=\"\",\"\",'Prüfung 1 | Startliste'!G28)","v":""},{"$f":"IF('Prüfung 1 | Startliste'!H28=\"\",\"\",'Prüfung 1 | Startliste'!H28)","v":""},"",4]
["",22,{"$f":"IF('Prüfung 1 | Startliste'!A29=\"\",\"\",'Prüfung 1 | Startliste'!A29)","v":""},{"$f":"IF('Prüfung 1 | Startliste'!C29=\"\",\"\",'Prüfung 1 | Startliste'!C29)","v":""},{"$f":"IF('Prüfung 1 | Startliste'!D29=\"\",\"\",'Prüfung 1 | Startliste'!D29)","v":""},{"$f":"IF('Prüfung 1 | Startliste'!E29=\"\",\"\",'Prüfung 1 | Startliste'!E29)","v":""},{"$f":"IF('Prüfung 1 | Startliste'!F29=\"\",\"\",'Prüfung 1 | Startliste'!F29)","v":""},{"$f":"IF('Prüfung 1 | Startliste'!G29=\"\",\"\",'Prüfung 1 | Startliste'!G29)","v":""},{"$f":"IF('Prüfung 1 | Startliste'!H29=\"\",\"\",'Prüfung 1 | Startliste'!H29)","v":""},"",4]
["",23,{"$f":"IF('Prüfung 1 | Startliste'!A30=\"\",\"\",'Prüfung 1 | Startliste'!A30)","v":""},{"$f":"IF('Prüfung 1 | Startliste'!C30=\"\",\"\",'Prüfung 1 | Startliste'!C30)","v":""},{"$f":"IF('Prüfung 1 | Startliste'!D30=\"\",\"\",'Prüfung 1 | Startliste'!D30)","v":""},{"$f":"IF('Prüfung 1 | Startliste'!E30=\"\",\"\",'Prüfung 1 | Startliste'!E30)","v":""},{"$f":"IF('Prüfung 1 | Startliste'!F30=\"\",\"\",'Prüfung 1 | Startliste'!F30)","v":""},{"$f":"IF('Prüfung 1 | Startliste'!G30=\"\",\"\",'Prüfung 1 | Startliste'!G30)","v":""},{"$f":"IF('Prüfung 1 | Startliste'!H30=\"\",\"\",'Prüfung 1 | Startliste'!H30)","v":""},"",4]
["",24,{"$f":"IF('Prüfung 1 | Startliste'!A31=\"\",\"\",'Prüfung 1 | Startliste'!A31)","v":""},{"$f":"IF('Prüfung 1 | Startliste'!C31=\"\",\"\",'Prüfung 1 | Startliste'!C31)","v":""},{"$f":"IF('Prüfung 1 | Startliste'!D31=\"\",\"\",'Prüfung 1 | Startliste'!D31)","v":""},{"$f":"IF('Prüfung 1 | Startliste'!E31=\"\",\"\",'Prüfung 1 | Startliste'!E31)","v":""},{"$f":"IF('Prüfung 1 | Startliste'!F31=\"\",\"\",'Prüfung 1 | Startliste'!F31)","v":""},{"$f":"IF('Prüfung 1 | Startliste'!G31=\"\",\"\",'Prüfung 1 | Startliste'!G31)","v":""},{"$f":"IF('Prüfung 1 | Startliste'!H31=\"\",\"\",'Prüfung 1 | Startliste'!H31)","v":""},"",4]
["",25,{"$f":"IF('Prüfung 1 | Startliste'!A32=\"\",\"\",'Prüfung 1 | Startliste'!A32)","v":""},{"$f":"IF('Prüfung 1 | Startliste'!C32=\"\",\"\",'Prüfung 1 | Startliste'!C32)","v":""},{"$f":"IF('Prüfung 1 | Startliste'!D32=\"\",\"\",'Prüfung 1 | Startliste'!D32)","v":""},{"$f":"IF('Prüfung 1 | Startliste'!E32=\"\",\"\",'Prüfung 1 | Startliste'!E32)","v":""},{"$f":"IF('Prüfung 1 | Startliste'!F32=\"\",\"\",'Prüfung 1 | Startliste'!F32)","v":""},{"$f":"IF('Prüfung 1 | Startliste'!G32=\"\",\"\",'Prüfung 1 | Startliste'!G32)","v":""},{"$f":"IF('Prüfung 1 | Startliste'!H32=\"\",\"\",'Prüfung 1 | Startliste'!H32)","v":""},"",4]
["",26,{"$f":"IF('Prüfung 1 | Startliste'!A33=\"\",\"\",'Prüfung 1 | Startliste'!A33)","v":""},{"$f":"IF('Prüfung 1 | Startliste'!C33=\"\",\"\",'Prüfung 1 | Startliste'!C33)","v":""},{"$f":"IF('Prüfung 1 | Startliste'!D33=\"\",\"\",'Prüfung 1 | Startliste'!D33)","v":""},{"$f":"IF('Prüfung 1 | Startliste'!E33=\"\",\"\",'Prüfung 1 | Startliste'!E33)","v":""},{"$f":"IF('Prüfung 1 | Startliste'!F33=\"\",\"\",'Prüfung 1 | Startliste'!F33)","v":""},{"$f":"IF('Prüfung 1 | Startliste'!G33=\"\",\"\",'Prüfung 1 | Startliste'!G33)","v":""},{"$f":"IF('Prüfung 1 | Startliste'!H33=\"\",\"\",'Prüfung 1 | Startliste'!H33)","v":""},"",4]
["",27,{"$f":"IF('Prüfung 1 | Startliste'!A34=\"\",\"\",'Prüfung 1 | Startliste'!A34)","v":""},{"$f":"IF('Prüfung 1 | Startliste'!C34=\"\",\"\",'Prüfung 1 | Startliste'!C34)","v":""},{"$f":"IF('Prüfung 1 | Startliste'!D34=\"\",\"\",'Prüfung 1 | Startliste'!D34)","v":""},{"$f":"IF('Prüfung 1 | Startliste'!E34=\"\",\"\",'Prüfung 1 | Startliste'!E34)","v":""},{"$f":"IF('Prüfung 1 | Startliste'!F34=\"\",\"\",'Prüfung 1 | Startliste'!F34)","v":""},{"$f":"IF('Prüfung 1 | Startliste'!G34=\"\",\"\",'Prüfung 1 | Startliste'!G34)","v":""},{"$f":"IF('Prüfung 1 | Startliste'!H34=\"\",\"\",'Prüfung 1 | Startliste'!H34)","v":""},"",4]
["",28,{"$f":"IF('Prüfung 1 | Startliste'!A35=\"\",\"\",'Prüfung 1 | Startliste'!A35)","v":""},{"$f":"IF('Prüfung 1 | Startliste'!C35=\"\",\"\",'Prüfung 1 | Startliste'!C35)","v":""},{"$f":"IF('Prüfung 1 | Startliste'!D35=\"\",\"\",'Prüfung 1 | Startliste'!D35)","v":""},{"$f":"IF('Prüfung 1 | Startliste'!E35=\"\",\"\",'Prüfung 1 | Startliste'!E35)","v":""},{"$f":"IF('Prüfung 1 | Startliste'!F35=\"\",\"\",'Prüfung 1 | Startliste'!F35)","v":""},{"$f":"IF('Prüfung 1 | Startliste'!G35=\"\",\"\",'Prüfung 1 | Startliste'!G35)","v":""},{"$f":"IF('Prüfung 1 | Startliste'!H35=\"\",\"\",'Prüfung 1 | Startliste'!H35)","v":""},"",4]
["",29,{"$f":"IF('Prüfung 1 | Startliste'!A36=\"\",\"\",'Prüfung 1 | Startliste'!A36)","v":""},{"$f":"IF('Prüfung 1 | Startliste'!C36=\"\",\"\",'Prüfung 1 | Startliste'!C36)","v":""},{"$f":"IF('Prüfung 1 | Startliste'!D36=\"\",\"\",'Prüfung 1 | Startliste'!D36)","v":""},{"$f":"IF('Prüfung 1 | Startliste'!E36=\"\",\"\",'Prüfung 1 | Startliste'!E36)","v":""},{"$f":"IF('Prüfung 1 | Startliste'!F36=\"\",\"\",'Prüfung 1 | Startliste'!F36)","v":""},{"$f":"IF('Prüfung 1 | Startliste'!G36=\"\",\"\",'Prüfung 1 | Startliste'!G36)","v":""},{"$f":"IF('Prüfung 1 | Startliste'!H36=\"\",\"\",'Prüfung 1 | Startliste'!H36)","v":""},"",4]
["",30,{"$f":"IF('Prüfung 1 | Startliste'!A37=\"\",\"\",'Prüfung 1 | Startliste'!A37)","v":""},{"$f":"IF('Prüfung 1 | Startliste'!C37=\"\",\"\",'Prüfung 1 | Startliste'!C37)","v":""},{"$f":"IF('Prüfung 1 | Startliste'!D37=\"\",\"\",'Prüfung 1 | Startliste'!D37)","v":""},{"$f":"IF('Prüfung 1 | Startliste'!E37=\"\",\"\",'Prüfung 1 | Startliste'!E37)","v":""},{"$f":"IF('Prüfung 1 | Startliste'!F37=\"\",\"\",'Prüfung 1 | Startliste'!F37)","v":""},{"$f":"IF('Prüfung 1 | Startliste'!G37=\"\",\"\",'Prüfung 1 | Startliste'!G37)","v":""},{"$f":"IF('Prüfung 1 | Startliste'!H37=\"\",\"\",'Prüfung 1 | Startliste'!H37)","v":""},"",4]
["",31,{"$f":"IF('Prüfung 1 | Startliste'!A38=\"\",\"\",'Prüfung 1 | Startliste'!A38)","v":""},{"$f":"IF('Prüfung 1 | Startliste'!C38=\"\",\"\",'Prüfung 1 | Startliste'!C38)","v":""},{"$f":"IF('Prüfung 1 | Startliste'!D38=\"\",\"\",'Prüfung 1 | Startliste'!D38)","v":""},{"$f":"IF('Prüfung 1 | Startliste'!E38=\"\",\"\",'Prüfung 1 | Startliste'!E38)","v":""},{"$f":"IF('Prüfung 1 | Startliste'!F38=\"\",\"\",'Prüfung 1 | Startliste'!F38)","v":""},{"$f":"IF('Prüfung 1 | Startliste'!G38=\"\",\"\",'Prüfung 1 | Startliste'!G38)","v":""},{"$f":"IF('Prüfung 1 | Startliste'!H38=\"\",\"\",'Prüfung 1 | Startliste'!H38)","v":""},"",4]
["",32,{"$f":"IF('Prüfung 1 | Startliste'!A39=\"\",\"\",'Prüfung 1 | Startliste'!A39)","v":""},{"$f":"IF('Prüfung 1 | Startliste'!C39=\"\",\"\",'Prüfung 1 | Startliste'!C39)","v":""},{"$f":"IF('Prüfung 1 | Startliste'!D39=\"\",\"\",'Prüfung 1 | Startliste'!D39)","v":""},{"$f":"IF('Prüfung 1 | Startliste'!E39=\"\",\"\",'Prüfung 1 | Startliste'!E39)","v":""},{"$f":"IF('Prüfung 1 | Startliste'!F39=\"\",\"\",'Prüfung 1 | Startliste'!F39)","v":""},{"$f":"IF('Prüfung 1 | Startliste'!G39=\"\",\"\",'Prüfung 1 | Startliste'!G39)","v":""},{"$f":"IF('Prüfung 1 | Startliste'!H39=\"\",\"\",'Prüfung 1 | Startliste'!H39)","v":""},"",4]
["",33,{"$f":"IF('Prüfung 1 | Startliste'!A40=\"\",\"\",'Prüfung 1 | Startliste'!A40)","v":""},{"$f":"IF('Prüfung 1 | Startliste'!C40=\"\",\"\",'Prüfung 1 | Startliste'!C40)","v":""},{"$f":"IF('Prüfung 1 | Startliste'!D40=\"\",\"\",'Prüfung 1 | Startliste'!D40)","v":""},{"$f":"IF('Prüfung 1 | Startliste'!E40=\"\",\"\",'Prüfung 1 | Startliste'!E40)","v":""},{"$f":"IF('Prüfung 1 | Startliste'!F40=\"\",\"\",'Prüfung 1 | Startliste'!F40)","v":""},{"$f":"IF('Prüfung 1 | Startliste'!G40=\"\",\"\",'Prüfung 1 | Startliste'!G40)","v":""},{"$f":"IF('Prüfung 1 | Startliste'!H40=\"\",\"\",'Prüfung 1 | Startliste'!H40)","v":""},{"$f":"IF(D$6=\"Nein\",\"\",IF(I40=\"\",\"\",(F40+H40)))","v":""},{"$f":"IF(D40=\"\",4,IF(C40=\"\",1,IF(C40=\"HC\",2,IF(AC40=\"NS\",3,\"\"))))","v":4}]
["",{"$f":"B40+1","v":34},{"$f":"IF('Prüfung 1 | Startliste'!A41=\"\",\"\",'Prüfung 1 | Startliste'!A41)","v":""},{"$f":"IF('Prüfung 1 | Startliste'!C41=\"\",\"\",'Prüfung 1 | Startliste'!C41)","v":""},{"$f":"IF('Prüfung 1 | Startliste'!D41=\"\",\"\",'Prüfung 1 | Startliste'!D41)","v":""},{"$f":"IF('Prüfung 1 | Startliste'!E41=\"\",\"\",'Prüfung 1 | Startliste'!E41)","v":""},{"$f":"IF('Prüfung 1 | Startliste'!F41=\"\",\"\",'Prüfung 1 | Startliste'!F41)","v":""},{"$f":"IF('Prüfung 1 | Startliste'!G41=\"\",\"\",'Prüfung 1 | Startliste'!G41)","v":""},{"$f":"IF('Prüfung 1 | Startliste'!H41=\"\",\"\",'Prüfung 1 | Startliste'!H41)","v":""},"",4]
["",35,{"$f":"IF('Prüfung 1 | Startliste'!A42=\"\",\"\",'Prüfung 1 | Startliste'!A42)","v":""},{"$f":"IF('Prüfung 1 | Startliste'!C42=\"\",\"\",'Prüfung 1 | Startliste'!C42)","v":""},{"$f":"IF('Prüfung 1 | Startliste'!D42=\"\",\"\",'Prüfung 1 | Startliste'!D42)","v":""},{"$f":"IF('Prüfung 1 | Startliste'!E42=\"\",\"\",'Prüfung 1 | Startliste'!E42)","v":""},{"$f":"IF('Prüfung 1 | Startliste'!F42=\"\",\"\",'Prüfung 1 | Startliste'!F42)","v":""},{"$f":"IF('Prüfung 1 | Startliste'!G42=\"\",\"\",'Prüfung 1 | Startliste'!G42)","v":""},{"$f":"IF('Prüfung 1 | Startliste'!H42=\"\",\"\",'Prüfung 1 | Startliste'!H42)","v":""},"",4]
["",36,{"$f":"IF('Prüfung 1 | Startliste'!A43=\"\",\"\",'Prüfung 1 | Startliste'!A43)","v":""},{"$f":"IF('Prüfung 1 | Startliste'!C43=\"\",\"\",'Prüfung 1 | Startliste'!C43)","v":""},{"$f":"IF('Prüfung 1 | Startliste'!D43=\"\",\"\",'Prüfung 1 | Startliste'!D43)","v":""},{"$f":"IF('Prüfung 1 | Startliste'!E43=\"\",\"\",'Prüfung 1 | Startliste'!E43)","v":""},{"$f":"IF('Prüfung 1 | Startliste'!F43=\"\",\"\",'Prüfung 1 | Startliste'!F43)","v":""},{"$f":"IF('Prüfung 1 | Startliste'!G43=\"\",\"\",'Prüfung 1 | Startliste'!G43)","v":""},{"$f":"IF('Prüfung 1 | Startliste'!H43=\"\",\"\",'Prüfung 1 | Startliste'!H43)","v":""},"",4]
["",37,{"$f":"IF('Prüfung 1 | Startliste'!A44=\"\",\"\",'Prüfung 1 | Startliste'!A44)","v":""},{"$f":"IF('Prüfung 1 | Startliste'!C44=\"\",\"\",'Prüfung 1 | Startliste'!C44)","v":""},{"$f":"IF('Prüfung 1 | Startliste'!D44=\"\",\"\",'Prüfung 1 | Startliste'!D44)","v":""},{"$f":"IF('Prüfung 1 | Startliste'!E44=\"\",\"\",'Prüfung 1 | Startliste'!E44)","v":""},{"$f":"IF('Prüfung 1 | Startliste'!F44=\"\",\"\",'Prüfung 1 | Startliste'!F44)","v":""},{"$f":"IF('Prüfung 1 | Startliste'!G44=\"\",\"\",'Prüfung 1 | Startliste'!G44)","v":""},{"$f":"IF('Prüfung 1 | Startliste'!H44=\"\",\"\",'Prüfung 1 | Startliste'!H44)","v":""},"",4]
["",38,{"$f":"IF('Prüfung 1 | Startliste'!A45=\"\",\"\",'Prüfung 1 | Startliste'!A45)","v":""},{"$f":"IF('Prüfung 1 | Startliste'!C45=\"\",\"\",'Prüfung 1 | Startliste'!C45)","v":""},{"$f":"IF('Prüfung 1 | Startliste'!D45=\"\",\"\",'Prüfung 1 | Startliste'!D45)","v":""},{"$f":"IF('Prüfung 1 | Startliste'!E45=\"\",\"\",'Prüfung 1 | Startliste'!E45)","v":""},{"$f":"IF('Prüfung 1 | Startliste'!F45=\"\",\"\",'Prüfung 1 | Startliste'!F45)","v":""},{"$f":"IF('Prüfung 1 | Startliste'!G45=\"\",\"\",'Prüfung 1 | Startliste'!G45)","v":""},{"$f":"IF('Prüfung 1 | Startliste'!H45=\"\",\"\",'Prüfung 1 | Startliste'!H45)","v":""},"",4]
["",39,{"$f":"IF('Prüfung 1 | Startliste'!A46=\"\",\"\",'Prüfung 1 | Startliste'!A46)","v":""},{"$f":"IF('Prüfung 1 | Startliste'!C46=\"\",\"\",'Prüfung 1 | Startliste'!C46)","v":""},{"$f":"IF('Prüfung 1 | Startliste'!D46=\"\",\"\",'Prüfung 1 | Startliste'!D46)","v":""},{"$f":"IF('Prüfung 1 | Startliste'!E46=\"\",\"\",'Prüfung 1 | Startliste'!E46)","v":""},{"$f":"IF('Prüfung 1 | Startliste'!F46=\"\",\"\",'Prüfung 1 | Startliste'!F46)","v":""},{"$f":"IF('Prüfung 1 | Startliste'!G46=\"\",\"\",'Prüfung 1 | Startliste'!G46)","v":""},{"$f":"IF('Prüfung 1 | Startliste'!H46=\"\",\"\",'Prüfung 1 | Startliste'!H46)","v":""},"",4]
["",40,{"$f":"IF('Prüfung 1 | Startliste'!A47=\"\",\"\",'Prüfung 1 | Startliste'!A47)","v":""},{"$f":"IF('Prüfung 1 | Startliste'!C47=\"\",\"\",'Prüfung 1 | Startliste'!C47)","v":""},{"$f":"IF('Prüfung 1 | Startliste'!D47=\"\",\"\",'Prüfung 1 | Startliste'!D47)","v":""},{"$f":"IF('Prüfung 1 | Startliste'!E47=\"\",\"\",'Prüfung 1 | Startliste'!E47)","v":""},{"$f":"IF('Prüfung 1 | Startliste'!F47=\"\",\"\",'Prüfung 1 | Startliste'!F47)","v":""},{"$f":"IF('Prüfung 1 | Startliste'!G47=\"\",\"\",'Prüfung 1 | Startliste'!G47)","v":""},{"$f":"IF('Prüfung 1 | Startliste'!H47=\"\",\"\",'Prüfung 1 | Startliste'!H47)","v":""},"",4]
["",41,{"$f":"IF('Prüfung 1 | Startliste'!A48=\"\",\"\",'Prüfung 1 | Startliste'!A48)","v":""},{"$f":"IF('Prüfung 1 | Startliste'!C48=\"\",\"\",'Prüfung 1 | Startliste'!C48)","v":""},{"$f":"IF('Prüfung 1 | Startliste'!D48=\"\",\"\",'Prüfung 1 | Startliste'!D48)","v":""},{"$f":"IF('Prüfung 1 | Startliste'!E48=\"\",\"\",'Prüfung 1 | Startliste'!E48)","v":""},{"$f":"IF('Prüfung 1 | Startliste'!F48=\"\",\"\",'Prüfung 1 | Startliste'!F48)","v":""},{"$f":"IF('Prüfung 1 | Startliste'!G48=\"\",\"\",'Prüfung 1 | Startliste'!G48)","v":""},{"$f":"IF('Prüfung 1 | Startliste'!H48=\"\",\"\",'Prüfung 1 | Startliste'!H48)","v":""},"",4]
["",42,{"$f":"IF('Prüfung 1 | Startliste'!A49=\"\",\"\",'Prüfung 1 | Startliste'!A49)","v":""},{"$f":"IF('Prüfung 1 | Startliste'!C49=\"\",\"\",'Prüfung 1 | Startliste'!C49)","v":""},{"$f":"IF('Prüfung 1 | Startliste'!D49=\"\",\"\",'Prüfung 1 | Startliste'!D49)","v":""},{"$f":"IF('Prüfung 1 | Startliste'!E49=\"\",\"\",'Prüfung 1 | Startliste'!E49)","v":""},{"$f":"IF('Prüfung 1 | Startliste'!F49=\"\",\"\",'Prüfung 1 | Startliste'!F49)","v":""},{"$f":"IF('Prüfung 1 | Startliste'!G49=\"\",\"\",'Prüfung 1 | Startliste'!G49)","v":""},{"$f":"IF('Prüfung 1 | Startliste'!H49=\"\",\"\",'Prüfung 1 | Startliste'!H49)","v":""},"",4]
["",43,{"$f":"IF('Prüfung 1 | Startliste'!A50=\"\",\"\",'Prüfung 1 | Startliste'!A50)","v":""},{"$f":"IF('Prüfung 1 | Startliste'!C50=\"\",\"\",'Prüfung 1 | Startliste'!C50)","v":""},{"$f":"IF('Prüfung 1 | Startliste'!D50=\"\",\"\",'Prüfung 1 | Startliste'!D50)","v":""},{"$f":"IF('Prüfung 1 | Startliste'!E50=\"\",\"\",'Prüfung 1 | Startliste'!E50)","v":""},{"$f":"IF('Prüfung 1 | Startliste'!F50=\"\",\"\",'Prüfung 1 | Startliste'!F50)","v":""},{"$f":"IF('Prüfung 1 | Startliste'!G50=\"\",\"\",'Prüfung 1 | Startliste'!G50)","v":""},{"$f":"IF('Prüfung 1 | Startliste'!H50=\"\",\"\",'Prüfung 1 | Startliste'!H50)","v":""},"",4]
["",44,{"$f":"IF('Prüfung 1 | Startliste'!A51=\"\",\"\",'Prüfung 1 | Startliste'!A51)","v":""},{"$f":"IF('Prüfung 1 | Startliste'!C51=\"\",\"\",'Prüfung 1 | Startliste'!C51)","v":""},{"$f":"IF('Prüfung 1 | Startliste'!D51=\"\",\"\",'Prüfung 1 | Startliste'!D51)","v":""},{"$f":"IF('Prüfung 1 | Startliste'!E51=\"\",\"\",'Prüfung 1 | Startliste'!E51)","v":""},{"$f":"IF('Prüfung 1 | Startliste'!F51=\"\",\"\",'Prüfung 1 | Startliste'!F51)","v":""},{"$f":"IF('Prüfung 1 | Startliste'!G51=\"\",\"\",'Prüfung 1 | Startliste'!G51)","v":""},{"$f":"IF('Prüfung 1 | Startliste'!H51=\"\",\"\",'Prüfung 1 | Startliste'!H51)","v":""},"",4]
["",45,{"$f":"IF('Prüfung 1 | Startliste'!A52=\"\",\"\",'Prüfung 1 | Startliste'!A52)","v":""},{"$f":"IF('Prüfung 1 | Startliste'!C52=\"\",\"\",'Prüfung 1 | Startliste'!C52)","v":""},{"$f":"IF('Prüfung 1 | Startliste'!D52=\"\",\"\",'Prüfung 1 | Startliste'!D52)","v":""},{"$f":"IF('Prüfung 1 | Startliste'!E52=\"\",\"\",'Prüfung 1 | Startliste'!E52)","v":""},{"$f":"IF('Prüfung 1 | Startliste'!F52=\"\",\"\",'Prüfung 1 | Startliste'!F52)","v":""},{"$f":"IF('Prüfung 1 | Startliste'!G52=\"\",\"\",'Prüfung 1 | Startliste'!G52)","v":""},{"$f":"IF('Prüfung 1 | Startliste'!H52=\"\",\"\",'Prüfung 1 | Startliste'!H52)","v":""},"",4]
["",46,{"$f":"IF('Prüfung 1 | Startliste'!A53=\"\",\"\",'Prüfung 1 | Startliste'!A53)","v":""},{"$f":"IF('Prüfung 1 | Startliste'!C53=\"\",\"\",'Prüfung 1 | Startliste'!C53)","v":""},{"$f":"IF('Prüfung 1 | Startliste'!D53=\"\",\"\",'Prüfung 1 | Startliste'!D53)","v":""},{"$f":"IF('Prüfung 1 | Startliste'!E53=\"\",\"\",'Prüfung 1 | Startliste'!E53)","v":""},{"$f":"IF('Prüfung 1 | Startliste'!F53=\"\",\"\",'Prüfung 1 | Startliste'!F53)","v":""},{"$f":"IF('Prüfung 1 | Startliste'!G53=\"\",\"\",'Prüfung 1 | Startliste'!G53)","v":""},{"$f":"IF('Prüfung 1 | Startliste'!H53=\"\",\"\",'Prüfung 1 | Startliste'!H53)","v":""},"",4]
["",47,{"$f":"IF('Prüfung 1 | Startliste'!A54=\"\",\"\",'Prüfung 1 | Startliste'!A54)","v":""},{"$f":"IF('Prüfung 1 | Startliste'!C54=\"\",\"\",'Prüfung 1 | Startliste'!C54)","v":""},{"$f":"IF('Prüfung 1 | Startliste'!D54=\"\",\"\",'Prüfung 1 | Startliste'!D54)","v":""},{"$f":"IF('Prüfung 1 | Startliste'!E54=\"\",\"\",'Prüfung 1 | Startliste'!E54)","v":""},{"$f":"IF('Prüfung 1 | Startliste'!F54=\"\",\"\",'Prüfung 1 | Startliste'!F54)","v":""},{"$f":"IF('Prüfung 1 | Startliste'!G54=\"\",\"\",'Prüfung 1 | Startliste'!G54)","v":""},{"$f":"IF('Prüfung 1 | Startliste'!H54=\"\",\"\",'Prüfung 1 | Startliste'!H54)","v":""},"",4]
["",48,{"$f":"IF('Prüfung 1 | Startliste'!A55=\"\",\"\",'Prüfung 1 | Startliste'!A55)","v":""},{"$f":"IF('Prüfung 1 | Startliste'!C55=\"\",\"\",'Prüfung 1 | Startliste'!C55)","v":""},{"$f":"IF('Prüfung 1 | Startliste'!D55=\"\",\"\",'Prüfung 1 | Startliste'!D55)","v":""},{"$f":"IF('Prüfung 1 | Startliste'!E55=\"\",\"\",'Prüfung 1 | Startliste'!E55)","v":""},{"$f":"IF('Prüfung 1 | Startliste'!F55=\"\",\"\",'Prüfung 1 | Startliste'!F55)","v":""},{"$f":"IF('Prüfung 1 | Startliste'!G55=\"\",\"\",'Prüfung 1 | Startliste'!G55)","v":""},{"$f":"IF('Prüfung 1 | Startliste'!H55=\"\",\"\",'Prüfung 1 | Startliste'!H55)","v":""},"",4]
["",49,{"$f":"IF('Prüfung 1 | Startliste'!A56=\"\",\"\",'Prüfung 1 | Startliste'!A56)","v":""},{"$f":"IF('Prüfung 1 | Startliste'!C56=\"\",\"\",'Prüfung 1 | Startliste'!C56)","v":""},{"$f":"IF('Prüfung 1 | Startliste'!D56=\"\",\"\",'Prüfung 1 | Startliste'!D56)","v":""},{"$f":"IF('Prüfung 1 | Startliste'!E56=\"\",\"\",'Prüfung 1 | Startliste'!E56)","v":""},{"$f":"IF('Prüfung 1 | Startliste'!F56=\"\",\"\",'Prüfung 1 | Startliste'!F56)","v":""},{"$f":"IF('Prüfung 1 | Startliste'!G56=\"\",\"\",'Prüfung 1 | Startliste'!G56)","v":""},{"$f":"IF('Prüfung 1 | Startliste'!H56=\"\",\"\",'Prüfung 1 | Startliste'!H56)","v":""},"",4]
["",50,{"$f":"IF('Prüfung 1 | Startliste'!A57=\"\",\"\",'Prüfung 1 | Startliste'!A57)","v":""},{"$f":"IF('Prüfung 1 | Startliste'!C57=\"\",\"\",'Prüfung 1 | Startliste'!C57)","v":""},{"$f":"IF('Prüfung 1 | Startliste'!D57=\"\",\"\",'Prüfung 1 | Startliste'!D57)","v":""},{"$f":"IF('Prüfung 1 | Startliste'!E57=\"\",\"\",'Prüfung 1 | Startliste'!E57)","v":""},{"$f":"IF('Prüfung 1 | Startliste'!F57=\"\",\"\",'Prüfung 1 | Startliste'!F57)","v":""},{"$f":"IF('Prüfung 1 | Startliste'!G57=\"\",\"\",'Prüfung 1 | Startliste'!G57)","v":""},{"$f":"IF('Prüfung 1 | Startliste'!H57=\"\",\"\",'Prüfung 1 | Startliste'!H57)","v":""},"",4]
["",51,{"$f":"IF('Prüfung 1 | Startliste'!A58=\"\",\"\",'Prüfung 1 | Startliste'!A58)","v":""},{"$f":"IF('Prüfung 1 | Startliste'!C58=\"\",\"\",'Prüfung 1 | Startliste'!C58)","v":""},{"$f":"IF('Prüfung 1 | Startliste'!D58=\"\",\"\",'Prüfung 1 | Startliste'!D58)","v":""},{"$f":"IF('Prüfung 1 | Startliste'!E58=\"\",\"\",'Prüfung 1 | Startliste'!E58)","v":""},{"$f":"IF('Prüfung 1 | Startliste'!F58=\"\",\"\",'Prüfung 1 | Startliste'!F58)","v":""},{"$f":"IF('Prüfung 1 | Startliste'!G58=\"\",\"\",'Prüfung 1 | Startliste'!G58)","v":""},{"$f":"IF('Prüfung 1 | Startliste'!H58=\"\",\"\",'Prüfung 1 | Startliste'!H58)","v":""},"",4]
["",52,{"$f":"IF('Prüfung 1 | Startliste'!A59=\"\",\"\",'Prüfung 1 | Startliste'!A59)","v":""},{"$f":"IF('Prüfung 1 | Startliste'!C59=\"\",\"\",'Prüfung 1 | Startliste'!C59)","v":""},{"$f":"IF('Prüfung 1 | Startliste'!D59=\"\",\"\",'Prüfung 1 | Startliste'!D59)","v":""},{"$f":"IF('Prüfung 1 | Startliste'!E59=\"\",\"\",'Prüfung 1 | Startliste'!E59)","v":""},{"$f":"IF('Prüfung 1 | Startliste'!F59=\"\",\"\",'Prüfung 1 | Startliste'!F59)","v":""},{"$f":"IF('Prüfung 1 | Startliste'!G59=\"\",\"\",'Prüfung 1 | Startliste'!G59)","v":""},{"$f":"IF('Prüfung 1 | Startliste'!H59=\"\",\"\",'Prüfung 1 | Startliste'!H59)","v":""},"",4]
["",53,{"$f":"IF('Prüfung 1 | Startliste'!A60=\"\",\"\",'Prüfung 1 | Startliste'!A60)","v":""},{"$f":"IF('Prüfung 1 | Startliste'!C60=\"\",\"\",'Prüfung 1 | Startliste'!C60)","v":""},{"$f":"IF('Prüfung 1 | Startliste'!D60=\"\",\"\",'Prüfung 1 | Startliste'!D60)","v":""},{"$f":"IF('Prüfung 1 | Startliste'!E60=\"\",\"\",'Prüfung 1 | Startliste'!E60)","v":""},{"$f":"IF('Prüfung 1 | Startliste'!F60=\"\",\"\",'Prüfung 1 | Startliste'!F60)","v":""},{"$f":"IF('Prüfung 1 | Startliste'!G60=\"\",\"\",'Prüfung 1 | Startliste'!G60)","v":""},{"$f":"IF('Prüfung 1 | Startliste'!H60=\"\",\"\",'Prüfung 1 | Startliste'!H60)","v":""},"",4]
["",54,{"$f":"IF('Prüfung 1 | Startliste'!A61=\"\",\"\",'Prüfung 1 | Startliste'!A61)","v":""},{"$f":"IF('Prüfung 1 | Startliste'!C61=\"\",\"\",'Prüfung 1 | Startliste'!C61)","v":""},{"$f":"IF('Prüfung 1 | Startliste'!D61=\"\",\"\",'Prüfung 1 | Startliste'!D61)","v":""},{"$f":"IF('Prüfung 1 | Startliste'!E61=\"\",\"\",'Prüfung 1 | Startliste'!E61)","v":""},{"$f":"IF('Prüfung 1 | Startliste'!F61=\"\",\"\",'Prüfung 1 | Startliste'!F61)","v":""},{"$f":"IF('Prüfung 1 | Startliste'!G61=\"\",\"\",'Prüfung 1 | Startliste'!G61)","v":""},{"$f":"IF('Prüfung 1 | Startliste'!H61=\"\",\"\",'Prüfung 1 | Startliste'!H61)","v":""},"",4]
["",55,{"$f":"IF('Prüfung 1 | Startliste'!A62=\"\",\"\",'Prüfung 1 | Startliste'!A62)","v":""},{"$f":"IF('Prüfung 1 | Startliste'!C62=\"\",\"\",'Prüfung 1 | Startliste'!C62)","v":""},{"$f":"IF('Prüfung 1 | Startliste'!D62=\"\",\"\",'Prüfung 1 | Startliste'!D62)","v":""},{"$f":"IF('Prüfung 1 | Startliste'!E62=\"\",\"\",'Prüfung 1 | Startliste'!E62)","v":""},{"$f":"IF('Prüfung 1 | Startliste'!F62=\"\",\"\",'Prüfung 1 | Startliste'!F62)","v":""},{"$f":"IF('Prüfung 1 | Startliste'!G62=\"\",\"\",'Prüfung 1 | Startliste'!G62)","v":""},{"$f":"IF('Prüfung 1 | Startliste'!H62=\"\",\"\",'Prüfung 1 | Startliste'!H62)","v":""},"",4]
["",56,{"$f":"IF('Prüfung 1 | Startliste'!A63=\"\",\"\",'Prüfung 1 | Startliste'!A63)","v":""},{"$f":"IF('Prüfung 1 | Startliste'!C63=\"\",\"\",'Prüfung 1 | Startliste'!C63)","v":""},{"$f":"IF('Prüfung 1 | Startliste'!D63=\"\",\"\",'Prüfung 1 | Startliste'!D63)","v":""},{"$f":"IF('Prüfung 1 | Startliste'!E63=\"\",\"\",'Prüfung 1 | Startliste'!E63)","v":""},{"$f":"IF('Prüfung 1 | Startliste'!F63=\"\",\"\",'Prüfung 1 | Startliste'!F63)","v":""},{"$f":"IF('Prüfung 1 | Startliste'!G63=\"\",\"\",'Prüfung 1 | Startliste'!G63)","v":""},{"$f":"IF('Prüfung 1 | Startliste'!H63=\"\",\"\",'Prüfung 1 | Startliste'!H63)","v":""},"",4]
["",57,{"$f":"IF('Prüfung 1 | Startliste'!A64=\"\",\"\",'Prüfung 1 | Startliste'!A64)","v":""},{"$f":"IF('Prüfung 1 | Startliste'!C64=\"\",\"\",'Prüfung 1 | Startliste'!C64)","v":""},{"$f":"IF('Prüfung 1 | Startliste'!D64=\"\",\"\",'Prüfung 1 | Startliste'!D64)","v":""},{"$f":"IF('Prüfung 1 | Startliste'!E64=\"\",\"\",'Prüfung 1 | Startliste'!E64)","v":""},{"$f":"IF('Prüfung 1 | Startliste'!F64=\"\",\"\",'Prüfung 1 | Startliste'!F64)","v":""},{"$f":"IF('Prüfung 1 | Startliste'!G64=\"\",\"\",'Prüfung 1 | Startliste'!G64)","v":""},{"$f":"IF('Prüfung 1 | Startliste'!H64=\"\",\"\",'Prüfung 1 | Startliste'!H64)","v":""},"",4]
["",58,{"$f":"IF('Prüfung 1 | Startliste'!A65=\"\",\"\",'Prüfung 1 | Startliste'!A65)","v":""},{"$f":"IF('Prüfung 1 | Startliste'!C65=\"\",\"\",'Prüfung 1 | Startliste'!C65)","v":""},{"$f":"IF('Prüfung 1 | Startliste'!D65=\"\",\"\",'Prüfung 1 | Startliste'!D65)","v":""},{"$f":"IF('Prüfung 1 | Startliste'!E65=\"\",\"\",'Prüfung 1 | Startliste'!E65)","v":""},{"$f":"IF('Prüfung 1 | Startliste'!F65=\"\",\"\",'Prüfung 1 | Startliste'!F65)","v":""},{"$f":"IF('Prüfung 1 | Startliste'!G65=\"\",\"\",'Prüfung 1 | Startliste'!G65)","v":""},{"$f":"IF('Prüfung 1 | Startliste'!H65=\"\",\"\",'Prüfung 1 | Startliste'!H65)","v":""},"",4]
["",59,{"$f":"IF('Prüfung 1 | Startliste'!A66=\"\",\"\",'Prüfung 1 | Startliste'!A66)","v":""},{"$f":"IF('Prüfung 1 | Startliste'!C66=\"\",\"\",'Prüfung 1 | Startliste'!C66)","v":""},{"$f":"IF('Prüfung 1 | Startliste'!D66=\"\",\"\",'Prüfung 1 | Startliste'!D66)","v":""},{"$f":"IF('Prüfung 1 | Startliste'!E66=\"\",\"\",'Prüfung 1 | Startliste'!E66)","v":""},{"$f":"IF('Prüfung 1 | Startliste'!F66=\"\",\"\",'Prüfung 1 | Startliste'!F66)","v":""},{"$f":"IF('Prüfung 1 | Startliste'!G66=\"\",\"\",'Prüfung 1 | Startliste'!G66)","v":""},{"$f":"IF('Prüfung 1 | Startliste'!H66=\"\",\"\",'Prüfung 1 | Startliste'!H66)","v":""},"",4]
["",60,{"$f":"IF('Prüfung 1 | Startliste'!A67=\"\",\"\",'Prüfung 1 | Startliste'!A67)","v":""},{"$f":"IF('Prüfung 1 | Startliste'!C67=\"\",\"\",'Prüfung 1 | Startliste'!C67)","v":""},{"$f":"IF('Prüfung 1 | Startliste'!D67=\"\",\"\",'Prüfung 1 | Startliste'!D67)","v":""},{"$f":"IF('Prüfung 1 | Startliste'!E67=\"\",\"\",'Prüfung 1 | Startliste'!E67)","v":""},{"$f":"IF('Prüfung 1 | Startliste'!F67=\"\",\"\",'Prüfung 1 | Startliste'!F67)","v":""},{"$f":"IF('Prüfung 1 | Startliste'!G67=\"\",\"\",'Prüfung 1 | Startliste'!G67)","v":""},{"$f":"IF('Prüfung 1 | Startliste'!H67=\"\",\"\",'Prüfung 1 | Startliste'!H67)","v":""},"",4]
["",61,{"$f":"IF('Prüfung 1 | Startliste'!A68=\"\",\"\",'Prüfung 1 | Startliste'!A68)","v":""},{"$f":"IF('Prüfung 1 | Startliste'!C68=\"\",\"\",'Prüfung 1 | Startliste'!C68)","v":""},{"$f":"IF('Prüfung 1 | Startliste'!D68=\"\",\"\",'Prüfung 1 | Startliste'!D68)","v":""},{"$f":"IF('Prüfung 1 | Startliste'!E68=\"\",\"\",'Prüfung 1 | Startliste'!E68)","v":""},{"$f":"IF('Prüfung 1 | Startliste'!F68=\"\",\"\",'Prüfung 1 | Startliste'!F68)","v":""},{"$f":"IF('Prüfung 1 | Startliste'!G68=\"\",\"\",'Prüfung 1 | Startliste'!G68)","v":""},{"$f":"IF('Prüfung 1 | Startliste'!H68=\"\",\"\",'Prüfung 1 | Startliste'!H68)","v":""},"",4]
["",62,{"$f":"IF('Prüfung 1 | Startliste'!A69=\"\",\"\",'Prüfung 1 | Startliste'!A69)","v":""},{"$f":"IF('Prüfung 1 | Startliste'!C69=\"\",\"\",'Prüfung 1 | Startliste'!C69)","v":""},{"$f":"IF('Prüfung 1 | Startliste'!D69=\"\",\"\",'Prüfung 1 | Startliste'!D69)","v":""},{"$f":"IF('Prüfung 1 | Startliste'!E69=\"\",\"\",'Prüfung 1 | Startliste'!E69)","v":""},{"$f":"IF('Prüfung 1 | Startliste'!F69=\"\",\"\",'Prüfung 1 | Startliste'!F69)","v":""},{"$f":"IF('Prüfung 1 | Startliste'!G69=\"\",\"\",'Prüfung 1 | Startliste'!G69)","v":""},{"$f":"IF('Prüfung 1 | Startliste'!H69=\"\",\"\",'Prüfung 1 | Startliste'!H69)","v":""},"",4]
["",63,{"$f":"IF('Prüfung 1 | Startliste'!A70=\"\",\"\",'Prüfung 1 | Startliste'!A70)","v":""},{"$f":"IF('Prüfung 1 | Startliste'!C70=\"\",\"\",'Prüfung 1 | Startliste'!C70)","v":""},{"$f":"IF('Prüfung 1 | Startliste'!D70=\"\",\"\",'Prüfung 1 | Startliste'!D70)","v":""},{"$f":"IF('Prüfung 1 | Startliste'!E70=\"\",\"\",'Prüfung 1 | Startliste'!E70)","v":""},{"$f":"IF('Prüfung 1 | Startliste'!F70=\"\",\"\",'Prüfung 1 | Startliste'!F70)","v":""},{"$f":"IF('Prüfung 1 | Startliste'!G70=\"\",\"\",'Prüfung 1 | Startliste'!G70)","v":""},{"$f":"IF('Prüfung 1 | Startliste'!H70=\"\",\"\",'Prüfung 1 | Startliste'!H70)","v":""},"",4]
["",64,{"$f":"IF('Prüfung 1 | Startliste'!A71=\"\",\"\",'Prüfung 1 | Startliste'!A71)","v":""},{"$f":"IF('Prüfung 1 | Startliste'!C71=\"\",\"\",'Prüfung 1 | Startliste'!C71)","v":""},{"$f":"IF('Prüfung 1 | Startliste'!D71=\"\",\"\",'Prüfung 1 | Startliste'!D71)","v":""},{"$f":"IF('Prüfung 1 | Startliste'!E71=\"\",\"\",'Prüfung 1 | Startliste'!E71)","v":""},{"$f":"IF('Prüfung 1 | Startliste'!F71=\"\",\"\",'Prüfung 1 | Startliste'!F71)","v":""},{"$f":"IF('Prüfung 1 | Startliste'!G71=\"\",\"\",'Prüfung 1 | Startliste'!G71)","v":""},{"$f":"IF('Prüfung 1 | Startliste'!H71=\"\",\"\",'Prüfung 1 | Startliste'!H71)","v":""},"",4]
["",65,{"$f":"IF('Prüfung 1 | Startliste'!A72=\"\",\"\",'Prüfung 1 | Startliste'!A72)","v":""},{"$f":"IF('Prüfung 1 | Startliste'!C72=\"\",\"\",'Prüfung 1 | Startliste'!C72)","v":""},{"$f":"IF('Prüfung 1 | Startliste'!D72=\"\",\"\",'Prüfung 1 | Startliste'!D72)","v":""},{"$f":"IF('Prüfung 1 | Startliste'!E72=\"\",\"\",'Prüfung 1 | Startliste'!E72)","v":""},{"$f":"IF('Prüfung 1 | Startliste'!F72=\"\",\"\",'Prüfung 1 | Startliste'!F72)","v":""},{"$f":"IF('Prüfung 1 | Startliste'!G72=\"\",\"\",'Prüfung 1 | Startliste'!G72)","v":""},{"$f":"IF('Prüfung 1 | Startliste'!H72=\"\",\"\",'Prüfung 1 | Startliste'!H72)","v":""},{"$f":"IF(D$6=\"Nein\",\"\",IF(I72=\"\",\"\",(F72+H72)))","v":""},{"$f":"IF(D72=\"\",4,IF(C72=\"\",1,IF(C72=\"HC\",2,IF(AC72=\"NS\",3,\"\"))))","v":4}]
[{"$f":"IF(B73<=A$7,\"kl.\",\"\")","v":""},{"$f":"B72+1","v":66},{"$f":"IF('Prüfung 1 | Startliste'!A73=\"\",\"\",'Prüfung 1 | Startliste'!A73)","v":""},{"$f":"IF('Prüfung 1 | Startliste'!C73=\"\",\"\",'Prüfung 1 | Startliste'!C73)","v":""},{"$f":"IF('Prüfung 1 | Startliste'!D73=\"\",\"\",'Prüfung 1 | Startliste'!D73)","v":""},{"$f":"IF('Prüfung 1 | Startliste'!E73=\"\",\"\",'Prüfung 1 | Startliste'!E73)","v":""},{"$f":"IF('Prüfung 1 | Startliste'!F73=\"\",\"\",'Prüfung 1 | Startliste'!F73)","v":""},{"$f":"IF('Prüfung 1 | Startliste'!G73=\"\",\"\",'Prüfung 1 | Startliste'!G73)","v":""},{"$f":"IF('Prüfung 1 | Startliste'!H73=\"\",\"\",'Prüfung 1 | Startliste'!H73)","v":""},"",4]
["",67,{"$f":"IF('Prüfung 1 | Startliste'!A74=\"\",\"\",'Prüfung 1 | Startliste'!A74)","v":""},{"$f":"IF('Prüfung 1 | Startliste'!C74=\"\",\"\",'Prüfung 1 | Startliste'!C74)","v":""},{"$f":"IF('Prüfung 1 | Startliste'!D74=\"\",\"\",'Prüfung 1 | Startliste'!D74)","v":""},{"$f":"IF('Prüfung 1 | Startliste'!E74=\"\",\"\",'Prüfung 1 | Startliste'!E74)","v":""},{"$f":"IF('Prüfung 1 | Startliste'!F74=\"\",\"\",'Prüfung 1 | Startliste'!F74)","v":""},{"$f":"IF('Prüfung 1 | Startliste'!G74=\"\",\"\",'Prüfung 1 | Startliste'!G74)","v":""},{"$f":"IF('Prüfung 1 | Startliste'!H74=\"\",\"\",'Prüfung 1 | Startliste'!H74)","v":""},"",4]
["",68,{"$f":"IF('Prüfung 1 | Startliste'!A75=\"\",\"\",'Prüfung 1 | Startliste'!A75)","v":""},{"$f":"IF('Prüfung 1 | Startliste'!C75=\"\",\"\",'Prüfung 1 | Startliste'!C75)","v":""},{"$f":"IF('Prüfung 1 | Startliste'!D75=\"\",\"\",'Prüfung 1 | Startliste'!D75)","v":""},{"$f":"IF('Prüfung 1 | Startliste'!E75=\"\",\"\",'Prüfung 1 | Startliste'!E75)","v":""},{"$f":"IF('Prüfung 1 | Startliste'!F75=\"\",\"\",'Prüfung 1 | Startliste'!F75)","v":""},{"$f":"IF('Prüfung 1 | Startliste'!G75=\"\",\"\",'Prüfung 1 | Startliste'!G75)","v":""},{"$f":"IF('Prüfung 1 | Startliste'!H75=\"\",\"\",'Prüfung 1 | Startliste'!H75)","v":""},"",4]
["",69,{"$f":"IF('Prüfung 1 | Startliste'!A76=\"\",\"\",'Prüfung 1 | Startliste'!A76)","v":""},{"$f":"IF('Prüfung 1 | Startliste'!C76=\"\",\"\",'Prüfung 1 | Startliste'!C76)","v":""},{"$f":"IF('Prüfung 1 | Startliste'!D76=\"\",\"\",'Prüfung 1 | Startliste'!D76)","v":""},{"$f":"IF('Prüfung 1 | Startliste'!E76=\"\",\"\",'Prüfung 1 | Startliste'!E76)","v":""},{"$f":"IF('Prüfung 1 | Startliste'!F76=\"\",\"\",'Prüfung 1 | Startliste'!F76)","v":""},{"$f":"IF('Prüfung 1 | Startliste'!G76=\"\",\"\",'Prüfung 1 | Startliste'!G76)","v":""},{"$f":"IF('Prüfung 1 | Startliste'!H76=\"\",\"\",'Prüfung 1 | Startliste'!H76)","v":""},"",4]
["",70,{"$f":"IF('Prüfung 1 | Startliste'!A77=\"\",\"\",'Prüfung 1 | Startliste'!A77)","v":""},{"$f":"IF('Prüfung 1 | Startliste'!C77=\"\",\"\",'Prüfung 1 | Startliste'!C77)","v":""},{"$f":"IF('Prüfung 1 | Startliste'!D77=\"\",\"\",'Prüfung 1 | Startliste'!D77)","v":""},{"$f":"IF('Prüfung 1 | Startliste'!E77=\"\",\"\",'Prüfung 1 | Startliste'!E77)","v":""},{"$f":"IF('Prüfung 1 | Startliste'!F77=\"\",\"\",'Prüfung 1 | Startliste'!F77)","v":""},{"$f":"IF('Prüfung 1 | Startliste'!G77=\"\",\"\",'Prüfung 1 | Startliste'!G77)","v":""},{"$f":"IF('Prüfung 1 | Startliste'!H77=\"\",\"\",'Prüfung 1 | Startliste'!H77)","v":""},"",4]
["",71,{"$f":"IF('Prüfung 1 | Startliste'!A78=\"\",\"\",'Prüfung 1 | Startliste'!A78)","v":""},{"$f":"IF('Prüfung 1 | Startliste'!C78=\"\",\"\",'Prüfung 1 | Startliste'!C78)","v":""},{"$f":"IF('Prüfung 1 | Startliste'!D78=\"\",\"\",'Prüfung 1 | Startliste'!D78)","v":""},{"$f":"IF('Prüfung 1 | Startliste'!E78=\"\",\"\",'Prüfung 1 | Startliste'!E78)","v":""},{"$f":"IF('Prüfung 1 | Startliste'!F78=\"\",\"\",'Prüfung 1 | Startliste'!F78)","v":""},{"$f":"IF('Prüfung 1 | Startliste'!G78=\"\",\"\",'Prüfung 1 | Startliste'!G78)","v":""},{"$f":"IF('Prüfung 1 | Startliste'!H78=\"\",\"\",'Prüfung 1 | Startliste'!H78)","v":""},"",4]
["",72,{"$f":"IF('Prüfung 1 | Startliste'!A79=\"\",\"\",'Prüfung 1 | Startliste'!A79)","v":""},{"$f":"IF('Prüfung 1 | Startliste'!C79=\"\",\"\",'Prüfung 1 | Startliste'!C79)","v":""},{"$f":"IF('Prüfung 1 | Startliste'!D79=\"\",\"\",'Prüfung 1 | Startliste'!D79)","v":""},{"$f":"IF('Prüfung 1 | Startliste'!E79=\"\",\"\",'Prüfung 1 | Startliste'!E79)","v":""},{"$f":"IF('Prüfung 1 | Startliste'!F79=\"\",\"\",'Prüfung 1 | Startliste'!F79)","v":""},{"$f":"IF('Prüfung 1 | Startliste'!G79=\"\",\"\",'Prüfung 1 | Startliste'!G79)","v":""},{"$f":"IF('Prüfung 1 | Startliste'!H79=\"\",\"\",'Prüfung 1 | Startliste'!H79)","v":""},"",4]
["",73,{"$f":"IF('Prüfung 1 | Startliste'!A80=\"\",\"\",'Prüfung 1 | Startliste'!A80)","v":""},{"$f":"IF('Prüfung 1 | Startliste'!C80=\"\",\"\",'Prüfung 1 | Startliste'!C80)","v":""},{"$f":"IF('Prüfung 1 | Startliste'!D80=\"\",\"\",'Prüfung 1 | Startliste'!D80)","v":""},{"$f":"IF('Prüfung 1 | Startliste'!E80=\"\",\"\",'Prüfung 1 | Startliste'!E80)","v":""},{"$f":"IF('Prüfung 1 | Startliste'!F80=\"\",\"\",'Prüfung 1 | Startliste'!F80)","v":""},{"$f":"IF('Prüfung 1 | Startliste'!G80=\"\",\"\",'Prüfung 1 | Startliste'!G80)","v":""},{"$f":"IF('Prüfung 1 | Startliste'!H80=\"\",\"\",'Prüfung 1 | Startliste'!H80)","v":""},"",4]
["",74,{"$f":"IF('Prüfung 1 | Startliste'!A81=\"\",\"\",'Prüfung 1 | Startliste'!A81)","v":""},{"$f":"IF('Prüfung 1 | Startliste'!C81=\"\",\"\",'Prüfung 1 | Startliste'!C81)","v":""},{"$f":"IF('Prüfung 1 | Startliste'!D81=\"\",\"\",'Prüfung 1 | Startliste'!D81)","v":""},{"$f":"IF('Prüfung 1 | Startliste'!E81=\"\",\"\",'Prüfung 1 | Startliste'!E81)","v":""},{"$f":"IF('Prüfung 1 | Startliste'!F81=\"\",\"\",'Prüfung 1 | Startliste'!F81)","v":""},{"$f":"IF('Prüfung 1 | Startliste'!G81=\"\",\"\",'Prüfung 1 | Startliste'!G81)","v":""},{"$f":"IF('Prüfung 1 | Startliste'!H81=\"\",\"\",'Prüfung 1 | Startliste'!H81)","v":""},"",4]
["",75,{"$f":"IF('Prüfung 1 | Startliste'!A82=\"\",\"\",'Prüfung 1 | Startliste'!A82)","v":""},{"$f":"IF('Prüfung 1 | Startliste'!C82=\"\",\"\",'Prüfung 1 | Startliste'!C82)","v":""},{"$f":"IF('Prüfung 1 | Startliste'!D82=\"\",\"\",'Prüfung 1 | Startliste'!D82)","v":""},{"$f":"IF('Prüfung 1 | Startliste'!E82=\"\",\"\",'Prüfung 1 | Startliste'!E82)","v":""},{"$f":"IF('Prüfung 1 | Startliste'!F82=\"\",\"\",'Prüfung 1 | Startliste'!F82)","v":""},{"$f":"IF('Prüfung 1 | Startliste'!G82=\"\",\"\",'Prüfung 1 | Startliste'!G82)","v":""},{"$f":"IF('Prüfung 1 | Startliste'!H82=\"\",\"\",'Prüfung 1 | Startliste'!H82)","v":""},"",4]
["",76,{"$f":"IF('Prüfung 1 | Startliste'!A83=\"\",\"\",'Prüfung 1 | Startliste'!A83)","v":""},{"$f":"IF('Prüfung 1 | Startliste'!C83=\"\",\"\",'Prüfung 1 | Startliste'!C83)","v":""},{"$f":"IF('Prüfung 1 | Startliste'!D83=\"\",\"\",'Prüfung 1 | Startliste'!D83)","v":""},{"$f":"IF('Prüfung 1 | Startliste'!E83=\"\",\"\",'Prüfung 1 | Startliste'!E83)","v":""},{"$f":"IF('Prüfung 1 | Startliste'!F83=\"\",\"\",'Prüfung 1 | Startliste'!F83)","v":""},{"$f":"IF('Prüfung 1 | Startliste'!G83=\"\",\"\",'Prüfung 1 | Startliste'!G83)","v":""},{"$f":"IF('Prüfung 1 | Startliste'!H83=\"\",\"\",'Prüfung 1 | Startliste'!H83)","v":""},"",4]
["",77,{"$f":"IF('Prüfung 1 | Startliste'!A84=\"\",\"\",'Prüfung 1 | Startliste'!A84)","v":""},{"$f":"IF('Prüfung 1 | Startliste'!C84=\"\",\"\",'Prüfung 1 | Startliste'!C84)","v":""},{"$f":"IF('Prüfung 1 | Startliste'!D84=\"\",\"\",'Prüfung 1 | Startliste'!D84)","v":""},{"$f":"IF('Prüfung 1 | Startliste'!E84=\"\",\"\",'Prüfung 1 | Startliste'!E84)","v":""},{"$f":"IF('Prüfung 1 | Startliste'!F84=\"\",\"\",'Prüfung 1 | Startliste'!F84)","v":""},{"$f":"IF('Prüfung 1 | Startliste'!G84=\"\",\"\",'Prüfung 1 | Startliste'!G84)","v":""},{"$f":"IF('Prüfung 1 | Startliste'!H84=\"\",\"\",'Prüfung 1 | Startliste'!H84)","v":""},"",4]
["",78,{"$f":"IF('Prüfung 1 | Startliste'!A85=\"\",\"\",'Prüfung 1 | Startliste'!A85)","v":""},{"$f":"IF('Prüfung 1 | Startliste'!C85=\"\",\"\",'Prüfung 1 | Startliste'!C85)","v":""},{"$f":"IF('Prüfung 1 | Startliste'!D85=\"\",\"\",'Prüfung 1 | Startliste'!D85)","v":""},{"$f":"IF('Prüfung 1 | Startliste'!E85=\"\",\"\",'Prüfung 1 | Startliste'!E85)","v":""},{"$f":"IF('Prüfung 1 | Startliste'!F85=\"\",\"\",'Prüfung 1 | Startliste'!F85)","v":""},{"$f":"IF('Prüfung 1 | Startliste'!G85=\"\",\"\",'Prüfung 1 | Startliste'!G85)","v":""},{"$f":"IF('Prüfung 1 | Startliste'!H85=\"\",\"\",'Prüfung 1 | Startliste'!H85)","v":""},"",4]
["",79,{"$f":"IF('Prüfung 1 | Startliste'!A86=\"\",\"\",'Prüfung 1 | Startliste'!A86)","v":""},{"$f":"IF('Prüfung 1 | Startliste'!C86=\"\",\"\",'Prüfung 1 | Startliste'!C86)","v":""},{"$f":"IF('Prüfung 1 | Startliste'!D86=\"\",\"\",'Prüfung 1 | Startliste'!D86)","v":""},{"$f":"IF('Prüfung 1 | Startliste'!E86=\"\",\"\",'Prüfung 1 | Startliste'!E86)","v":""},{"$f":"IF('Prüfung 1 | Startliste'!F86=\"\",\"\",'Prüfung 1 | Startliste'!F86)","v":""},{"$f":"IF('Prüfung 1 | Startliste'!G86=\"\",\"\",'Prüfung 1 | Startliste'!G86)","v":""},{"$f":"IF('Prüfung 1 | Startliste'!H86=\"\",\"\",'Prüfung 1 | Startliste'!H86)","v":""},"",4]
["",80,{"$f":"IF('Prüfung 1 | Startliste'!A87=\"\",\"\",'Prüfung 1 | Startliste'!A87)","v":""},{"$f":"IF('Prüfung 1 | Startliste'!C87=\"\",\"\",'Prüfung 1 | Startliste'!C87)","v":""},{"$f":"IF('Prüfung 1 | Startliste'!D87=\"\",\"\",'Prüfung 1 | Startliste'!D87)","v":""},{"$f":"IF('Prüfung 1 | Startliste'!E87=\"\",\"\",'Prüfung 1 | Startliste'!E87)","v":""},{"$f":"IF('Prüfung 1 | Startliste'!F87=\"\",\"\",'Prüfung 1 | Startliste'!F87)","v":""},{"$f":"IF('Prüfung 1 | Startliste'!G87=\"\",\"\",'Prüfung 1 | Startliste'!G87)","v":""},{"$f":"IF('Prüfung 1 | Startliste'!H87=\"\",\"\",'Prüfung 1 | Startliste'!H87)","v":""},"",4]
["",81,{"$f":"IF('Prüfung 1 | Startliste'!A88=\"\",\"\",'Prüfung 1 | Startliste'!A88)","v":""},{"$f":"IF('Prüfung 1 | Startliste'!C88=\"\",\"\",'Prüfung 1 | Startliste'!C88)","v":""},{"$f":"IF('Prüfung 1 | Startliste'!D88=\"\",\"\",'Prüfung 1 | Startliste'!D88)","v":""},{"$f":"IF('Prüfung 1 | Startliste'!E88=\"\",\"\",'Prüfung 1 | Startliste'!E88)","v":""},{"$f":"IF('Prüfung 1 | Startliste'!F88=\"\",\"\",'Prüfung 1 | Startliste'!F88)","v":""},{"$f":"IF('Prüfung 1 | Startliste'!G88=\"\",\"\",'Prüfung 1 | Startliste'!G88)","v":""},{"$f":"IF('Prüfung 1 | Startliste'!H88=\"\",\"\",'Prüfung 1 | Startliste'!H88)","v":""},"",4]
["",82,{"$f":"IF('Prüfung 1 | Startliste'!A89=\"\",\"\",'Prüfung 1 | Startliste'!A89)","v":""},{"$f":"IF('Prüfung 1 | Startliste'!C89=\"\",\"\",'Prüfung 1 | Startliste'!C89)","v":""},{"$f":"IF('Prüfung 1 | Startliste'!D89=\"\",\"\",'Prüfung 1 | Startliste'!D89)","v":""},{"$f":"IF('Prüfung 1 | Startliste'!E89=\"\",\"\",'Prüfung 1 | Startliste'!E89)","v":""},{"$f":"IF('Prüfung 1 | Startliste'!F89=\"\",\"\",'Prüfung 1 | Startliste'!F89)","v":""},{"$f":"IF('Prüfung 1 | Startliste'!G89=\"\",\"\",'Prüfung 1 | Startliste'!G89)","v":""},{"$f":"IF('Prüfung 1 | Startliste'!H89=\"\",\"\",'Prüfung 1 | Startliste'!H89)","v":""},"",4]
["",83,{"$f":"IF('Prüfung 1 | Startliste'!A90=\"\",\"\",'Prüfung 1 | Startliste'!A90)","v":""},{"$f":"IF('Prüfung 1 | Startliste'!C90=\"\",\"\",'Prüfung 1 | Startliste'!C90)","v":""},{"$f":"IF('Prüfung 1 | Startliste'!D90=\"\",\"\",'Prüfung 1 | Startliste'!D90)","v":""},{"$f":"IF('Prüfung 1 | Startliste'!E90=\"\",\"\",'Prüfung 1 | Startliste'!E90)","v":""},{"$f":"IF('Prüfung 1 | Startliste'!F90=\"\",\"\",'Prüfung 1 | Startliste'!F90)","v":""},{"$f":"IF('Prüfung 1 | Startliste'!G90=\"\",\"\",'Prüfung 1 | Startliste'!G90)","v":""},{"$f":"IF('Prüfung 1 | Startliste'!H90=\"\",\"\",'Prüfung 1 | Startliste'!H90)","v":""},"",4]
["",84,{"$f":"IF('Prüfung 1 | Startliste'!A91=\"\",\"\",'Prüfung 1 | Startliste'!A91)","v":""},{"$f":"IF('Prüfung 1 | Startliste'!C91=\"\",\"\",'Prüfung 1 | Startliste'!C91)","v":""},{"$f":"IF('Prüfung 1 | Startliste'!D91=\"\",\"\",'Prüfung 1 | Startliste'!D91)","v":""},{"$f":"IF('Prüfung 1 | Startliste'!E91=\"\",\"\",'Prüfung 1 | Startliste'!E91)","v":""},{"$f":"IF('Prüfung 1 | Startliste'!F91=\"\",\"\",'Prüfung 1 | Startliste'!F91)","v":""},{"$f":"IF('Prüfung 1 | Startliste'!G91=\"\",\"\",'Prüfung 1 | Startliste'!G91)","v":""},{"$f":"IF('Prüfung 1 | Startliste'!H91=\"\",\"\",'Prüfung 1 | Startliste'!H91)","v":""},"",4]
["",85,{"$f":"IF('Prüfung 1 | Startliste'!A92=\"\",\"\",'Prüfung 1 | Startliste'!A92)","v":""},{"$f":"IF('Prüfung 1 | Startliste'!C92=\"\",\"\",'Prüfung 1 | Startliste'!C92)","v":""},{"$f":"IF('Prüfung 1 | Startliste'!D92=\"\",\"\",'Prüfung 1 | Startliste'!D92)","v":""},{"$f":"IF('Prüfung 1 | Startliste'!E92=\"\",\"\",'Prüfung 1 | Startliste'!E92)","v":""},{"$f":"IF('Prüfung 1 | Startliste'!F92=\"\",\"\",'Prüfung 1 | Startliste'!F92)","v":""},{"$f":"IF('Prüfung 1 | Startliste'!G92=\"\",\"\",'Prüfung 1 | Startliste'!G92)","v":""},{"$f":"IF('Prüfung 1 | Startliste'!H92=\"\",\"\",'Prüfung 1 | Startliste'!H92)","v":""},"",4]
["",86,{"$f":"IF('Prüfung 1 | Startliste'!A93=\"\",\"\",'Prüfung 1 | Startliste'!A93)","v":""},{"$f":"IF('Prüfung 1 | Startliste'!C93=\"\",\"\",'Prüfung 1 | Startliste'!C93)","v":""},{"$f":"IF('Prüfung 1 | Startliste'!D93=\"\",\"\",'Prüfung 1 | Startliste'!D93)","v":""},{"$f":"IF('Prüfung 1 | Startliste'!E93=\"\",\"\",'Prüfung 1 | Startliste'!E93)","v":""},{"$f":"IF('Prüfung 1 | Startliste'!F93=\"\",\"\",'Prüfung 1 | Startliste'!F93)","v":""},{"$f":"IF('Prüfung 1 | Startliste'!G93=\"\",\"\",'Prüfung 1 | Startliste'!G93)","v":""},{"$f":"IF('Prüfung 1 | Startliste'!H93=\"\",\"\",'Prüfung 1 | Startliste'!H93)","v":""},"",4]
["",87,{"$f":"IF('Prüfung 1 | Startliste'!A94=\"\",\"\",'Prüfung 1 | Startliste'!A94)","v":""},{"$f":"IF('Prüfung 1 | Startliste'!C94=\"\",\"\",'Prüfung 1 | Startliste'!C94)","v":""},{"$f":"IF('Prüfung 1 | Startliste'!D94=\"\",\"\",'Prüfung 1 | Startliste'!D94)","v":""},{"$f":"IF('Prüfung 1 | Startliste'!E94=\"\",\"\",'Prüfung 1 | Startliste'!E94)","v":""},{"$f":"IF('Prüfung 1 | Startliste'!F94=\"\",\"\",'Prüfung 1 | Startliste'!F94)","v":""},{"$f":"IF('Prüfung 1 | Startliste'!G94=\"\",\"\",'Prüfung 1 | Startliste'!G94)","v":""},{"$f":"IF('Prüfung 1 | Startliste'!H94=\"\",\"\",'Prüfung 1 | Startliste'!H94)","v":""},"",4]
["",88,{"$f":"IF('Prüfung 1 | Startliste'!A95=\"\",\"\",'Prüfung 1 | Startliste'!A95)","v":""},{"$f":"IF('Prüfung 1 | Startliste'!C95=\"\",\"\",'Prüfung 1 | Startliste'!C95)","v":""},{"$f":"IF('Prüfung 1 | Startliste'!D95=\"\",\"\",'Prüfung 1 | Startliste'!D95)","v":""},{"$f":"IF('Prüfung 1 | Startliste'!E95=\"\",\"\",'Prüfung 1 | Startliste'!E95)","v":""},{"$f":"IF('Prüfung 1 | Startliste'!F95=\"\",\"\",'Prüfung 1 | Startliste'!F95)","v":""},{"$f":"IF('Prüfung 1 | Startliste'!G95=\"\",\"\",'Prüfung 1 | Startliste'!G95)","v":""},{"$f":"IF('Prüfung 1 | Startliste'!H95=\"\",\"\",'Prüfung 1 | Startliste'!H95)","v":""},"",4]
["",89,{"$f":"IF('Prüfung 1 | Startliste'!A96=\"\",\"\",'Prüfung 1 | Startliste'!A96)","v":""},{"$f":"IF('Prüfung 1 | Startliste'!C96=\"\",\"\",'Prüfung 1 | Startliste'!C96)","v":""},{"$f":"IF('Prüfung 1 | Startliste'!D96=\"\",\"\",'Prüfung 1 | Startliste'!D96)","v":""},{"$f":"IF('Prüfung 1 | Startliste'!E96=\"\",\"\",'Prüfung 1 | Startliste'!E96)","v":""},{"$f":"IF('Prüfung 1 | Startliste'!F96=\"\",\"\",'Prüfung 1 | Startliste'!F96)","v":""},{"$f":"IF('Prüfung 1 | Startliste'!G96=\"\",\"\",'Prüfung 1 | Startliste'!G96)","v":""},{"$f":"IF('Prüfung 1 | Startliste'!H96=\"\",\"\",'Prüfung 1 | Startliste'!H96)","v":""},"",4]
["",90,{"$f":"IF('Prüfung 1 | Startliste'!A97=\"\",\"\",'Prüfung 1 | Startliste'!A97)","v":""},{"$f":"IF('Prüfung 1 | Startliste'!C97=\"\",\"\",'Prüfung 1 | Startliste'!C97)","v":""},{"$f":"IF('Prüfung 1 | Startliste'!D97=\"\",\"\",'Prüfung 1 | Startliste'!D97)","v":""},{"$f":"IF('Prüfung 1 | Startliste'!E97=\"\",\"\",'Prüfung 1 | Startliste'!E97)","v":""},{"$f":"IF('Prüfung 1 | Startliste'!F97=\"\",\"\",'Prüfung 1 | Startliste'!F97)","v":""},{"$f":"IF('Prüfung 1 | Startliste'!G97=\"\",\"\",'Prüfung 1 | Startliste'!G97)","v":""},{"$f":"IF('Prüfung 1 | Startliste'!H97=\"\",\"\",'Prüfung 1 | Startliste'!H97)","v":""},"",4]

{"sheet":"Prüfung 2 | Startliste","index":2,"n_rows":97,"n_cols":10,"rows_kept":97,"cut":false,"hidden":false,"merged":[[0,0,0,8],[1,0,1,8],[2,0,2,2],[3,0,3,4],[4,0,4,3]]}
[{"$f":"'Prüfung 1 | Startliste'!A1","v":"Turniername"}]
["STARTLISTE mit Resultate"]
["Samstag, 16. April 2021"]
["Preis der....",null,null,null,null,null,"Prüfung-Nr.:",null,2]
["Kategorie"]
["2 Phasen für alle?",null,"Nein"]
["HC/NS","Start-Nr.","ReiterIn","Pferd","Fehler Umg. 1","Zeit Umg. 1","Fehler Umg. 2","Zeit Umg. 2","Fehler Total"]
[null,1,null,null,null,null,null,null,{"$f":"IF(C8=\"\",\"\",IF(H8=\"\",\"\",IF(C$6=\"Nein\",\"\",(E8+G8))))","v":""},{"$f":"IF(A8=\"\",1,IF(A8=\"HC\",2,IF(A8=\"NS\",3,\"\")))","v":1}]
[null,{"$f":"B8+1","v":2},null,null,null,null,null,null,""]
[null,{"$f":"B9+1","v":3},null,null,null,null,null,null,""]
[null,4,null,null,null,null,null,null,""]
[null,5,null,null,null,null,null,null,""]
[null,6,null,null,null,null,null,null,""]
[null,7,null,null,null,null,null,null,""]
[null,8,null,null,null,null,null,null,""]
[null,9,null,null,null,null,null,null,""]
[null,10,null,null,null,null,null,null,""]
[null,11,null,null,null,null,null,null,""]
[null,12,null,null,null,null,null,null,""]
[null,13,null,null,null,null,null,null,""]
[null,14,null,null,null,null,null,null,""]
[null,15,null,null,null,null,null,null,""]
[null,16,null,null,null,null,null,null,""]
[null,17,null,null,null,null,null,null,""]
[null,18,null,null,null,null,null,null,""]
[null,19,null,null,null,null,null,null,""]
[null,20,null,null,null,null,null,null,""]
[null,21,null,null,null,null,null,null,""]
[null,22,null,null,null,null,null,null,""]
[null,23,null,null,null,null,null,null,""]
[null,24,null,null,null,null,null,null,""]
[null,25,null,null,null,null,null,null,""]
[null,26,null,null,null,null,null,null,""]
[null,27,null,null,null,null,null,null,""]
[null,28,null,null,null,null,null,null,""]
[null,29,null,null,null,null,null,null,""]
[null,30,null,null,null,null,null,null,""]
[null,31,null,null,null,null,null,null,""]
[null,32,null,null,null,null,null,null,""]
[null,33,null,null,null,null,null,null,{"$f":"IF(C40=\"\",\"\",IF(H40=\"\",\"\",IF(C$6=\"Nein\",\"\",(E40+G40))))","v":""}]
[null,34,null,null,null,null,null,null,""]
[null,35,null,null,null,null,null,null,""]
[null,36,null,null,null,null,null,null,""]
[null,37,null,null,null,null,null,null,""]
[null,38,null,null,null,null,null,null,""]
[null,39,null,null,null,null,null,null,""]
[null,40,null,null,null,null,null,null,""]
[null,41,null,null,null,null,null,null,""]
[null,42,null,null,null,null,null,null,""]
[null,43,null,null,null,null,null,null,""]
[null,44,null,null,null,null,null,null,""]
[null,45,null,null,null,null,null,null,""]
[null,46,null,null,null,null,null,null,""]
[null,47,null,null,null,null,null,null,""]
[null,48,null,null,null,null,null,null,""]
[null,49,null,null,null,null,null,null,""]
[null,50,null,null,null,null,null,null,""]
[null,51,null,null,null,null,null,null,""]
[null,52,null,null,null,null,null,null,""]
[null,53,null,null,null,null,null,null,""]
[null,54,null,null,null,null,null,null,""]
[null,55,null,null,null,null,null,null,""]
[null,56,null,null,null,null,null,null,""]
[null,57,null,null,null,null,null,null,""]
[null,58,null,null,null,null,null,null,""]
[null,59,null,null,null,null,null,null,""]
[null,60,null,null,null,null,null,null,""]
[null,61,null,null,null,null,null,null,""]
[null,62,null,null,null,null,null,null,""]
[null,63,null,null,null,null,null,null,""]
[null,64,null,null,null,null,null,null,""]
[null,65,null,null,null,null,null,null,{"$f":"IF(C72=\"\",\"\",IF(H72=\"\",\"\",IF(C$6=\"Nein\",\"\",(E72+G72))))","v":""}]
[null,66,null,null,null,null,null,null,""]
[null,{"$f":"B73+1","v":67},null,null,null,null,null,null,""]
[null,68,null,null,null,null,null,null,""]
[null,69,null,null,null,null,null,null,""]
[null,70,null,null,null,null,null,null,""]
[null,71,null,null,null,null,null,null,""]
[null,72,null,null,null,null,null,null,""]
[null,73,null,null,null,null,null,null,""]
[null,74,null,null,null,null,null,null,""]
[null,75,null,null,null,null,null,null,""]
[null,76,null,null,null,null,null,null,""]
[null,77,null,null,null,null,null,null,""]
[null,78,null,null,null,null,null,null,""]
[null,79,null,null,null,null,null,null,""]
[null,80,null,null,null,null,null,null,""]
[null,81,null,null,null,null,null,null,""]
[null,82,null,null,null,null,null,null,""]
[null,83,null,null,null,null,null,null,""]
[null,84,null,null,null,null,null,null,""]
[null,85,null,null,null,null,null,null,""]
[null,86,null,null,null,null,null,null,""]
[null,87,null,null,null,null,null,null,""]
[null,88,null,null,null,null,null,null,""]
[null,89,null,null,null,null,null,null,""]
[null,90,null,null,null,null,null,null,""]

{"sheet":"Prüfung 2 | Rangliste","index":3,"n_rows":97,"n_cols":11,"rows_kept":97,"cut":false,"hidden":false,"merged":[[0,1,0,9],[1,1,1,9],[2,1,2,3],[3,1,3,5],[4,1,4,4]]}
[null,{"$f":"'Prüfung 1 | Startliste'!A1","v":"Turniername"}]
[null,"RANGLISTE"]
[null,{"$f":"'Prüfung 2 | Startliste'!A3","v":"Samstag, 16. April 2021"}]
[null,{"$f":"'Prüfung 2 | Startliste'!A4","v":"Preis der...."},null,null,null,null,null,"Prüfung-Nr.:",null,{"$f":"'Prüfung 2 | Startliste'!I4","v":2}]
[null,{"$f":"'Prüfung 2 | Startliste'!A5","v":"Kategorie"}]
[null,"2 Phasen für alle?",null,{"$f":"'Prüfung 2 | Startliste'!C6","v":"Nein"}]
[0,"Rang","HC/NS","ReiterIn","Pferd","Fehler Umg. 1","Zeit Umg. 1","Fehler Umg. 2","Zeit Umg. 2","Fehler Total"]
[{"$f":"IF(B8<=A$7,\"kl.\",\"\")","v":""},1,{"$f":"IF('Prüfung 2 | Startliste'!A8=\"\",\"\",'Prüfung 2 | Startliste'!A8)","v":""},{"$f":"IF('Prüfung 2 | Startliste'!C8=\"\",\"\",'Prüfung 2 | Startliste'!C8)","v":""},{"$f":"IF('Prüfung 2 | Startliste'!D8=\"\",\"\",'Prüfung 2 | Startliste'!D8)","v":""},{"$f":"IF('Prüfung 2 | Startliste'!E8=\"\",\"\",'Prüfung 2 | Startliste'!E8)","v":""},{"$f":"IF('Prüfung 2 | Startliste'!F8=\"\",\"\",'Prüfung 2 | Startliste'!F8)","v":""},{"$f":"IF('Prüfung 2 | Startliste'!G8=\"\",\"\",'Prüfung 2 | Startliste'!G8)","v":""},{"$f":"IF('Prüfung 2 | Startliste'!H8=\"\",\"\",'Prüfung 2 | Startliste'!H8)","v":""},{"$f":"IF(D$6=\"Nein\",\"\",IF(I8=\"\",\"\",(F8+H8)))","v":""},{"$f":"IF(D8=\"\",4,IF(C8=\"\",1,IF(C8=\"HC\",2,IF(AC8=\"NS\",3,\"\"))))","v":4}]
[{"$f":"IF(B9<=A$7,\"kl.\",\"\")","v":""},{"$f":"B8+1","v":2},{"$f":"IF('Prüfung 2 | Startliste'!A9=\"\",\"\",'Prüfung 2 | Startliste'!A9)","v":""},{"$f":"IF('Prüfung 2 | Startliste'!C9=\"\",\"\",'Prüfung 2 | Startliste'!C9)","v":""},{"$f":"IF('Prüfung 2 | Startliste'!D9=\"\",\"\",'Prüfung 2 | Startliste'!D9)","v":""},{"$f":"IF('Prüfung 2 | Startliste'!E9=\"\",\"\",'Prüfung 2 | Startliste'!E9)","v":""},{"$f":"IF('Prüfung 2 | Startliste'!F9=\"\",\"\",'Prüfung 2 | Startliste'!F9)","v":""},{"$f":"IF('Prüfung 2 | Startliste'!G9=\"\",\"\",'Prüfung 2 | Startliste'!G9)","v":""},{"$f":"IF('Prüfung 2 | Startliste'!H9=\"\",\"\",'Prüfung 2 | Startliste'!H9)","v":""},"",4]
["",3,{"$f":"IF('Prüfung 2 | Startliste'!A10=\"\",\"\",'Prüfung 2 | Startliste'!A10)","v":""},{"$f":"IF('Prüfung 2 | Startliste'!C10=\"\",\"\",'Prüfung 2 | Startliste'!C10)","v":""},{"$f":"IF('Prüfung 2 | Startliste'!D10=\"\",\"\",'Prüfung 2 | Startliste'!D10)","v":""},{"$f":"IF('Prüfung 2 | Startliste'!E10=\"\",\"\",'Prüfung 2 | Startliste'!E10)","v":""},{"$f":"IF('Prüfung 2 | Startliste'!F10=\"\",\"\",'Prüfung 2 | Startliste'!F10)","v":""},{"$f":"IF('Prüfung 2 | Startliste'!G10=\"\",\"\",'Prüfung 2 | Startliste'!G10)","v":""},{"$f":"IF('Prüfung 2 | Startliste'!H10=\"\",\"\",'Prüfung 2 | Startliste'!H10)","v":""},"",4]
["",4,{"$f":"IF('Prüfung 2 | Startliste'!A11=\"\",\"\",'Prüfung 2 | Startliste'!A11)","v":""},{"$f":"IF('Prüfung 2 | Startliste'!C11=\"\",\"\",'Prüfung 2 | Startliste'!C11)","v":""},{"$f":"IF('Prüfung 2 | Startliste'!D11=\"\",\"\",'Prüfung 2 | Startliste'!D11)","v":""},{"$f":"IF('Prüfung 2 | Startliste'!E11=\"\",\"\",'Prüfung 2 | Startliste'!E11)","v":""},{"$f":"IF('Prüfung 2 | Startliste'!F11=\"\",\"\",'Prüfung 2 | Startliste'!F11)","v":""},{"$f":"IF('Prüfung 2 | Startliste'!G11=\"\",\"\",'Prüfung 2 | Startliste'!G11)","v":""},{"$f":"IF('Prüfung 2 | Startliste'!H11=\"\",\"\",'Prüfung 2 | Startliste'!H11)","v":""},"",4]
["",5,{"$f":"IF('Prüfung 2 | Startliste'!A12=\"\",\"\",'Prüfung 2 | Startliste'!A12)","v":""},{"$f":"IF('Prüfung 2 | Startliste'!C12=\"\",\"\",'Prüfung 2 | Startliste'!C12)","v":""},{"$f":"IF('Prüfung 2 | Startliste'!D12=\"\",\"\",'Prüfung 2 | Startliste'!D12)","v":""},{"$f":"IF('Prüfung 2 | Startliste'!E12=\"\",\"\",'Prüfung 2 | Startliste'!E12)","v":""},{"$f":"IF('Prüfung 2 | Startliste'!F12=\"\",\"\",'Prüfung 2 | Startliste'!F12)","v":""},{"$f":"IF('Prüfung 2 | Startliste'!G12=\"\",\"\",'Prüfung 2 | Startliste'!G12)","v":""},{"$f":"IF('Prüfung 2 | Startliste'!H12=\"\",\"\",'Prüfung 2 | Startliste'!H12)","v":""},"",4]
["",6,{"$f":"IF('Prüfung 2 | Startliste'!A13=\"\",\"\",'Prüfung 2 | Startliste'!A13)","v":""},{"$f":"IF('Prüfung 2 | Startliste'!C13=\"\",\"\",'Prüfung 2 | Startliste'!C13)","v":""},{"$f":"IF('Prüfung 2 | Startliste'!D13=\"\",\"\",'Prüfung 2 | Startliste'!D13)","v":""},{"$f":"IF('Prüfung 2 | Startliste'!E13=\"\",\"\",'Prüfung 2 | Startliste'!E13)","v":""},{"$f":"IF('Prüfung 2 | Startliste'!F13=\"\",\"\",'Prüfung 2 | Startliste'!F13)","v":""},{"$f":"IF('Prüfung 2 | Startliste'!G13=\"\",\"\",'Prüfung 2 | Startliste'!G13)","v":""},{"$f":"IF('Prüfung 2 | Startliste'!H13=\"\",\"\",'Prüfung 2 | Startliste'!H13)","v":""},"",4]
["",7,{"$f":"IF('Prüfung 2 | Startliste'!A14=\"\",\"\",'Prüfung 2 | Startliste'!A14)","v":""},{"$f":"IF('Prüfung 2 | Startliste'!C14=\"\",\"\",'Prüfung 2 | Startliste'!C14)","v":""},{"$f":"IF('Prüfung 2 | Startliste'!D14=\"\",\"\",'Prüfung 2 | Startliste'!D14)","v":""},{"$f":"IF('Prüfung 2 | Startliste'!E14=\"\",\"\",'Prüfung 2 | Startliste'!E14)","v":""},{"$f":"IF('Prüfung 2 | Startliste'!F14=\"\",\"\",'Prüfung 2 | Startliste'!F14)","v":""},{"$f":"IF('Prüfung 2 | Startliste'!G14=\"\",\"\",'Prüfung 2 | Startliste'!G14)","v":""},{"$f":"IF('Prüfung 2 | Startliste'!H14=\"\",\"\",'Prüfung 2 | Startliste'!H14)","v":""},"",4]
["",8,{"$f":"IF('Prüfung 2 | Startliste'!A15=\"\",\"\",'Prüfung 2 | Startliste'!A15)","v":""},{"$f":"IF('Prüfung 2 | Startliste'!C15=\"\",\"\",'Prüfung 2 | Startliste'!C15)","v":""},{"$f":"IF('Prüfung 2 | Startliste'!D15=\"\",\"\",'Prüfung 2 | Startliste'!D15)","v":""},{"$f":"IF('Prüfung 2 | Startliste'!E15=\"\",\"\",'Prüfung 2 | Startliste'!E15)","v":""},{"$f":"IF('Prüfung 2 | Startliste'!F15=\"\",\"\",'Prüfung 2 | Startliste'!F15)","v":""},{"$f":"IF('Prüfung 2 | Startliste'!G15=\"\",\"\",'Prüfung 2 | Startliste'!G15)","v":""},{"$f":"IF('Prüfung 2 | Startliste'!H15=\"\",\"\",'Prüfung 2 | Startliste'!H15)","v":""},"",4]
["",9,{"$f":"IF('Prüfung 2 | Startliste'!A16=\"\",\"\",'Prüfung 2 | Startliste'!A16)","v":""},{"$f":"IF('Prüfung 2 | Startliste'!C16=\"\",\"\",'Prüfung 2 | Startliste'!C16)","v":""},{"$f":"IF('Prüfung 2 | Startliste'!D16=\"\",\"\",'Prüfung 2 | Startliste'!D16)","v":""},{"$f":"IF('Prüfung 2 | Startliste'!E16=\"\",\"\",'Prüfung 2 | Startliste'!E16)","v":""},{"$f":"IF('Prüfung 2 | Startliste'!F16=\"\",\"\",'Prüfung 2 | Startliste'!F16)","v":""},{"$f":"IF('Prüfung 2 | Startliste'!G16=\"\",\"\",'Prüfung 2 | Startliste'!G16)","v":""},{"$f":"IF('Prüfung 2 | Startliste'!H16=\"\",\"\",'Prüfung 2 | Startliste'!H16)","v":""},"",4]
["",10,{"$f":"IF('Prüfung 2 | Startliste'!A17=\"\",\"\",'Prüfung 2 | Startliste'!A17)","v":""},{"$f":"IF('Prüfung 2 | Startliste'!C17=\"\",\"\",'Prüfung 2 | Startliste'!C17)","v":""},{"$f":"IF('Prüfung 2 | Startliste'!D17=\"\",\"\",'Prüfung 2 | Startliste'!D17)","v":""},{"$f":"IF('Prüfung 2 | Startliste'!E17=\"\",\"\",'Prüfung 2 | Startliste'!E17)","v":""},{"$f":"IF('Prüfung 2 | Startliste'!F17=\"\",\"\",'Prüfung 2 | Startliste'!F17)","v":""},{"$f":"IF('Prüfung 2 | Startliste'!G17=\"\",\"\",'Prüfung 2 | Startliste'!G17)","v":""},{"$f":"IF('Prüfung 2 | Startliste'!H17=\"\",\"\",'Prüfung 2 | Startliste'!H17)","v":""},"",4]
["",11,{"$f":"IF('Prüfung 2 | Startliste'!A18=\"\",\"\",'Prüfung 2 | Startliste'!A18)","v":""},{"$f":"IF('Prüfung 2 | Startliste'!C18=\"\",\"\",'Prüfung 2 | Startliste'!C18)","v":""},{"$f":"IF('Prüfung 2 | Startliste'!D18=\"\",\"\",'Prüfung 2 | Startliste'!D18)","v":""},{"$f":"IF('Prüfung 2 | Startliste'!E18=\"\",\"\",'Prüfung 2 | Startliste'!E18)","v":""},{"$f":"IF('Prüfung 2 | Startliste'!F18=\"\",\"\",'Prüfung 2 | Startliste'!F18)","v":""},{"$f":"IF('Prüfung 2 | Startliste'!G18=\"\",\"\",'Prüfung 2 | Startliste'!G18)","v":""},{"$f":"IF('Prüfung 2 | Startliste'!H18=\"\",\"\",'Prüfung 2 | Startliste'!H18)","v":""},"",4]
["",12,{"$f":"IF('Prüfung 2 | Startliste'!A19=\"\",\"\",'Prüfung 2 | Startliste'!A19)","v":""},{"$f":"IF('Prüfung 2 | Startliste'!C19=\"\",\"\",'Prüfung 2 | Startliste'!C19)","v":""},{"$f":"IF('Prüfung 2 | Startliste'!D19=\"\",\"\",'Prüfung 2 | Startliste'!D19)","v":""},{"$f":"IF('Prüfung 2 | Startliste'!E19=\"\",\"\",'Prüfung 2 | Startliste'!E19)","v":""},{"$f":"IF('Prüfung 2 | Startliste'!F19=\"\",\"\",'Prüfung 2 | Startliste'!F19)","v":""},{"$f":"IF('Prüfung 2 | Startliste'!G19=\"\",\"\",'Prüfung 2 | Startliste'!G19)","v":""},{"$f":"IF('Prüfung 2 | Startliste'!H19=\"\",\"\",'Prüfung 2 | Startliste'!H19)","v":""},"",4]
["",13,{"$f":"IF('Prüfung 2 | Startliste'!A20=\"\",\"\",'Prüfung 2 | Startliste'!A20)","v":""},{"$f":"IF('Prüfung 2 | Startliste'!C20=\"\",\"\",'Prüfung 2 | Startliste'!C20)","v":""},{"$f":"IF('Prüfung 2 | Startliste'!D20=\"\",\"\",'Prüfung 2 | Startliste'!D20)","v":""},{"$f":"IF('Prüfung 2 | Startliste'!E20=\"\",\"\",'Prüfung 2 | Startliste'!E20)","v":""},{"$f":"IF('Prüfung 2 | Startliste'!F20=\"\",\"\",'Prüfung 2 | Startliste'!F20)","v":""},{"$f":"IF('Prüfung 2 | Startliste'!G20=\"\",\"\",'Prüfung 2 | Startliste'!G20)","v":""},{"$f":"IF('Prüfung 2 | Startliste'!H20=\"\",\"\",'Prüfung 2 | Startliste'!H20)","v":""},"",4]
["",14,{"$f":"IF('Prüfung 2 | Startliste'!A21=\"\",\"\",'Prüfung 2 | Startliste'!A21)","v":""},{"$f":"IF('Prüfung 2 | Startliste'!C21=\"\",\"\",'Prüfung 2 | Startliste'!C21)","v":""},{"$f":"IF('Prüfung 2 | Startliste'!D21=\"\",\"\",'Prüfung 2 | Startliste'!D21)","v":""},{"$f":"IF('Prüfung 2 | Startliste'!E21=\"\",\"\",'Prüfung 2 | Startliste'!E21)","v":""},{"$f":"IF('Prüfung 2 | Startliste'!F21=\"\",\"\",'Prüfung 2 | Startliste'!F21)","v":""},{"$f":"IF('Prüfung 2 | Startliste'!G21=\"\",\"\",'Prüfung 2 | Startliste'!G21)","v":""},{"$f":"IF('Prüfung 2 | Startliste'!H21=\"\",\"\",'Prüfung 2 | Startliste'!H21)","v":""},"",4]
["",15,{"$f":"IF('Prüfung 2 | Startliste'!A22=\"\",\"\",'Prüfung 2 | Startliste'!A22)","v":""},{"$f":"IF('Prüfung 2 | Startliste'!C22=\"\",\"\",'Prüfung 2 | Startliste'!C22)","v":""},{"$f":"IF('Prüfung 2 | Startliste'!D22=\"\",\"\",'Prüfung 2 | Startliste'!D22)","v":""},{"$f":"IF('Prüfung 2 | Startliste'!E22=\"\",\"\",'Prüfung 2 | Startliste'!E22)","v":""},{"$f":"IF('Prüfung 2 | Startliste'!F22=\"\",\"\",'Prüfung 2 | Startliste'!F22)","v":""},{"$f":"IF('Prüfung 2 | Startliste'!G22=\"\",\"\",'Prüfung 2 | Startliste'!G22)","v":""},{"$f":"IF('Prüfung 2 | Startliste'!H22=\"\",\"\",'Prüfung 2 | Startliste'!H22)","v":""},"",4]
["",16,{"$f":"IF('Prüfung 2 | Startliste'!A23=\"\",\"\",'Prüfung 2 | Startliste'!A23)","v":""},{"$f":"IF('Prüfung 2 | Startliste'!C23=\"\",\"\",'Prüfung 2 | Startliste'!C23)","v":""},{"$f":"IF('Prüfung 2 | Startliste'!D23=\"\",\"\",'Prüfung 2 | Startliste'!D23)","v":""},{"$f":"IF('Prüfung 2 | Startliste'!E23=\"\",\"\",'Prüfung 2 | Startliste'!E23)","v":""},{"$f":"IF('Prüfung 2 | Startliste'!F23=\"\",\"\",'Prüfung 2 | Startliste'!F23)","v":""},{"$f":"IF('Prüfung 2 | Startliste'!G23=\"\",\"\",'Prüfung 2 | Startliste'!G23)","v":""},{"$f":"IF('Prüfung 2 | Startliste'!H23=\"\",\"\",'Prüfung 2 | Startliste'!H23)","v":""},"",4]
["",17,{"$f":"IF('Prüfung 2 | Startliste'!A24=\"\",\"\",'Prüfung 2 | Startliste'!A24)","v":""},{"$f":"IF('Prüfung 2 | Startliste'!C24=\"\",\"\",'Prüfung 2 | Startliste'!C24)","v":""},{"$f":"IF('Prüfung 2 | Startliste'!D24=\"\",\"\",'Prüfung 2 | Startliste'!D24)","v":""},{"$f":"IF('Prüfung 2 | Startliste'!E24=\"\",\"\",'Prüfung 2 | Startliste'!E24)","v":""},{"$f":"IF('Prüfung 2 | Startliste'!F24=\"\",\"\",'Prüfung 2 | Startliste'!F24)","v":""},{"$f":"IF('Prüfung 2 | Startliste'!G24=\"\",\"\",'Prüfung 2 | Startliste'!G24)","v":""},{"$f":"IF('Prüfung 2 | Startliste'!H24=\"\",\"\",'Prüfung 2 | Startliste'!H24)","v":""},"",4]
["",18,{"$f":"IF('Prüfung 2 | Startliste'!A25=\"\",\"\",'Prüfung 2 | Startliste'!A25)","v":""},{"$f":"IF('Prüfung 2 | Startliste'!C25=\"\",\"\",'Prüfung 2 | Startliste'!C25)","v":""},{"$f":"IF('Prüfung 2 | Startliste'!D25=\"\",\"\",'Prüfung 2 | Startliste'!D25)","v":""},{"$f":"IF('Prüfung 2 | Startliste'!E25=\"\",\"\",'Prüfung 2 | Startliste'!E25)","v":""},{"$f":"IF('Prüfung 2 | Startliste'!F25=\"\",\"\",'Prüfung 2 | Startliste'!F25)","v":""},{"$f":"IF('Prüfung 2 | Startliste'!G25=\"\",\"\",'Prüfung 2 | Startliste'!G25)","v":""},{"$f":"IF('Prüfung 2 | Startliste'!H25=\"\",\"\",'Prüfung 2 | Startliste'!H25)","v":""},"",4]
["",19,{"$f":"IF('Prüfung 2 | Startliste'!A26=\"\",\"\",'Prüfung 2 | Startliste'!A26)","v":""},{"$f":"IF('Prüfung 2 | Startliste'!C26=\"\",\"\",'Prüfung 2 | Startliste'!C26)","v":""},{"$f":"IF('Prüfung 2 | Startliste'!D26=\"\",\"\",'Prüfung 2 | Startliste'!D26)","v":""},{"$f":"IF('Prüfung 2 | Startliste'!E26=\"\",\"\",'Prüfung 2 | Startliste'!E26)","v":""},{"$f":"IF('Prüfung 2 | Startliste'!F26=\"\",\"\",'Prüfung 2 | Startliste'!F26)","v":""},{"$f":"IF('Prüfung 2 | Startliste'!G26=\"\",\"\",'Prüfung 2 | Startliste'!G26)","v":""},{"$f":"IF('Prüfung 2 | Startliste'!H26=\"\",\"\",'Prüfung 2 | Startliste'!H26)","v":""},"",4]
["",20,{"$f":"IF('Prüfung 2 | Startliste'!A27=\"\",\"\",'Prüfung 2 | Startliste'!A27)","v":""},{"$f":"IF('Prüfung 2 | Startliste'!C27=\"\",\"\",'Prüfung 2 | Startliste'!C27)","v":""},{"$f":"IF('Prüfung 2 | Startliste'!D27=\"\",\"\",'Prüfung 2 | Startliste'!D27)","v":""},{"$f":"IF('Prüfung 2 | Startliste'!E27=\"\",\"\",'Prüfung 2 | Startliste'!E27)","v":""},{"$f":"IF('Prüfung 2 | Startliste'!F27=\"\",\"\",'Prüfung 2 | Startliste'!F27)","v":""},{"$f":"IF('Prüfung 2 | Startliste'!G27=\"\",\"\",'Prüfung 2 | Startliste'!G27)","v":""},{"$f":"IF('Prüfung 2 | Startliste'!H27=\"\",\"\",'Prüfung 2 | Startliste'!H27)","v":""},"",4]
["",21,{"$f":"IF('Prüfung 2 | Startliste'!A28=\"\",\"\",'Prüfung 2 | Startliste'!A28)","v":""},{"$f":"IF('Prüfung 2 | Startliste'!C28=\"\",\"\",'Prüfung 2 | Startliste'!C28)","v":""},{"$f":"IF('Prüfung 2 | Startliste'!D28=\"\",\"\",'Prüfung 2 | Startliste'!D28)","v":""},{"$f":"IF('Prüfung 2 | Startliste'!E28=\"\",\"\",'Prüfung 2 | Startliste'!E28)","v":""},{"$f":"IF('Prüfung 2 | Startliste'!F28=\"\",\"\",'Prüfung 2 | Startliste'!F28)","v":""},{"$f":"IF('Prüfung 2 | Startliste'!G28=\"\",\"\",'Prüfung 2 | Startliste'!G28)","v":""},{"$f":"IF('Prüfung 2 | Startliste'!H28=\"\",\"\",'Prüfung 2 | Startliste'!H28)","v":""},"",4]
["",22,{"$f":"IF('Prüfung 2 | Startliste'!A29=\"\",\"\",'Prüfung 2 | Startliste'!A29)","v":""},{"$f":"IF('Prüfung 2 | Startliste'!C29=\"\",\"\",'Prüfung 2 | Startliste'!C29)","v":""},{"$f":"IF('Prüfung 2 | Startliste'!D29=\"\",\"\",'Prüfung 2 | Startliste'!D29)","v":""},{"$f":"IF('Prüfung 2 | Startliste'!E29=\"\",\"\",'Prüfung 2 | Startliste'!E29)","v":""},{"$f":"IF('Prüfung 2 | Startliste'!F29=\"\",\"\",'Prüfung 2 | Startliste'!F29)","v":""},{"$f":"IF('Prüfung 2 | Startliste'!G29=\"\",\"\",'Prüfung 2 | Startliste'!G29)","v":""},{"$f":"IF('Prüfung 2 | Startliste'!H29=\"\",\"\",'Prüfung 2 | Startliste'!H29)","v":""},"",4]
["",23,{"$f":"IF('Prüfung 2 | Startliste'!A30=\"\",\"\",'Prüfung 2 | Startliste'!A30)","v":""},{"$f":"IF('Prüfung 2 | Startliste'!C30=\"\",\"\",'Prüfung 2 | Startliste'!C30)","v":""},{"$f":"IF('Prüfung 2 | Startliste'!D30=\"\",\"\",'Prüfung 2 | Startliste'!D30)","v":""},{"$f":"IF('Prüfung 2 | Startliste'!E30=\"\",\"\",'Prüfung 2 | Startliste'!E30)","v":""},{"$f":"IF('Prüfung 2 | Startliste'!F30=\"\",\"\",'Prüfung 2 | Startliste'!F30)","v":""},{"$f":"IF('Prüfung 2 | Startliste'!G30=\"\",\"\",'Prüfung 2 | Startliste'!G30)","v":""},{"$f":"IF('Prüfung 2 | Startliste'!H30=\"\",\"\",'Prüfung 2 | Startliste'!H30)","v":""},"",4]
["",24,{"$f":"IF('Prüfung 2 | Startliste'!A31=\"\",\"\",'Prüfung 2 | Startliste'!A31)","v":""},{"$f":"IF('Prüfung 2 | Startliste'!C31=\"\",\"\",'Prüfung 2 | Startliste'!C31)","v":""},{"$f":"IF('Prüfung 2 | Startliste'!D31=\"\",\"\",'Prüfung 2 | Startliste'!D31)","v":""},{"$f":"IF('Prüfung 2 | Startliste'!E31=\"\",\"\",'Prüfung 2 | Startliste'!E31)","v":""},{"$f":"IF('Prüfung 2 | Startliste'!F31=\"\",\"\",'Prüfung 2 | Startliste'!F31)","v":""},{"$f":"IF('Prüfung 2 | Startliste'!G31=\"\",\"\",'Prüfung 2 | Startliste'!G31)","v":""},{"$f":"IF('Prüfung 2 | Startliste'!H31=\"\",\"\",'Prüfung 2 | Startliste'!H31)","v":""},"",4]
["",25,{"$f":"IF('Prüfung 2 | Startliste'!A32=\"\",\"\",'Prüfung 2 | Startliste'!A32)","v":""},{"$f":"IF('Prüfung 2 | Startliste'!C32=\"\",\"\",'Prüfung 2 | Startliste'!C32)","v":""},{"$f":"IF('Prüfung 2 | Startliste'!D32=\"\",\"\",'Prüfung 2 | Startliste'!D32)","v":""},{"$f":"IF('Prüfung 2 | Startliste'!E32=\"\",\"\",'Prüfung 2 | Startliste'!E32)","v":""},{"$f":"IF('Prüfung 2 | Startliste'!F32=\"\",\"\",'Prüfung 2 | Startliste'!F32)","v":""},{"$f":"IF('Prüfung 2 | Startliste'!G32=\"\",\"\",'Prüfung 2 | Startliste'!G32)","v":""},{"$f":"IF('Prüfung 2 | Startliste'!H32=\"\",\"\",'Prüfung 2 | Startliste'!H32)","v":""},"",4]
["",26,{"$f":"IF('Prüfung 2 | Startliste'!A33=\"\",\"\",'Prüfung 2 | Startliste'!A33)","v":""},{"$f":"IF('Prüfung 2 | Startliste'!C33=\"\",\"\",'Prüfung 2 | Startliste'!C33)","v":""},{"$f":"IF('Prüfung 2 | Startliste'!D33=\"\",\"\",'Prüfung 2 | Startliste'!D33)","v":""},{"$f":"IF('Prüfung 2 | Startliste'!E33=\"\",\"\",'Prüfung 2 | Startliste'!E33)","v":""},{"$f":"IF('Prüfung 2 | Startliste'!F33=\"\",\"\",'Prüfung 2 | Startliste'!F33)","v":""},{"$f":"IF('Prüfung 2 | Startliste'!G33=\"\",\"\",'Prüfung 2 | Startliste'!G33)","v":""},{"$f":"IF('Prüfung 2 | Startliste'!H33=\"\",\"\",'Prüfung 2 | Startliste'!H33)","v":""},"",4]
["",27,{"$f":"IF('Prüfung 2 | Startliste'!A34=\"\",\"\",'Prüfung 2 | Startliste'!A34)","v":""},{"$f":"IF('Prüfung 2 | Startliste'!C34=\"\",\"\",'Prüfung 2 | Startliste'!C34)","v":""},{"$f":"IF('Prüfung 2 | Startliste'!D34=\"\",\"\",'Prüfung 2 | Startliste'!D34)","v":""},{"$f":"IF('Prüfung 2 | Startliste'!E34=\"\",\"\",'Prüfung 2 | Startliste'!E34)","v":""},{"$f":"IF('Prüfung 2 | Startliste'!F34=\"\",\"\",'Prüfung 2 | Startliste'!F34)","v":""},{"$f":"IF('Prüfung 2 | Startliste'!G34=\"\",\"\",'Prüfung 2 | Startliste'!G34)","v":""},{"$f":"IF('Prüfung 2 | Startliste'!H34=\"\",\"\",'Prüfung 2 | Startliste'!H34)","v":""},"",4]
["",28,{"$f":"IF('Prüfung 2 | Startliste'!A35=\"\",\"\",'Prüfung 2 | Startliste'!A35)","v":""},{"$f":"IF('Prüfung 2 | Startliste'!C35=\"\",\"\",'Prüfung 2 | Startliste'!C35)","v":""},{"$f":"IF('Prüfung 2 | Startliste'!D35=\"\",\"\",'Prüfung 2 | Startliste'!D35)","v":""},{"$f":"IF('Prüfung 2 | Startliste'!E35=\"\",\"\",'Prüfung 2 | Startliste'!E35)","v":""},{"$f":"IF('Prüfung 2 | Startliste'!F35=\"\",\"\",'Prüfung 2 | Startliste'!F35)","v":""},{"$f":"IF('Prüfung 2 | Startliste'!G35=\"\",\"\",'Prüfung 2 | Startliste'!G35)","v":""},{"$f":"IF('Prüfung 2 | Startliste'!H35=\"\",\"\",'Prüfung 2 | Startliste'!H35)","v":""},"",4]
["",29,{"$f":"IF('Prüfung 2 | Startliste'!A36=\"\",\"\",'Prüfung 2 | Startliste'!A36)","v":""},{"$f":"IF('Prüfung 2 | Startliste'!C36=\"\",\"\",'Prüfung 2 | Startliste'!C36)","v":""},{"$f":"IF('Prüfung 2 | Startliste'!D36=\"\",\"\",'Prüfung 2 | Startliste'!D36)","v":""},{"$f":"IF('Prüfung 2 | Startliste'!E36=\"\",\"\",'Prüfung 2 | Startliste'!E36)","v":""},{"$f":"IF('Prüfung 2 | Startliste'!F36=\"\",\"\",'Prüfung 2 | Startliste'!F36)","v":""},{"$f":"IF('Prüfung 2 | Startliste'!G36=\"\",\"\",'Prüfung 2 | Startliste'!G36)","v":""},{"$f":"IF('Prüfung 2 | Startliste'!H36=\"\",\"\",'Prüfung 2 | Startliste'!H36)","v":""},"",4]
["",30,{"$f":"IF('Prüfung 2 | Startliste'!A37=\"\",\"\",'Prüfung 2 | Startliste'!A37)","v":""},{"$f":"IF('Prüfung 2 | Startliste'!C37=\"\",\"\",'Prüfung 2 | Startliste'!C37)","v":""},{"$f":"IF('Prüfung 2 | Startliste'!D37=\"\",\"\",'Prüfung 2 | Startliste'!D37)","v":""},{"$f":"IF('Prüfung 2 | Startliste'!E37=\"\",\"\",'Prüfung 2 | Startliste'!E37)","v":""},{"$f":"IF('Prüfung 2 | Startliste'!F37=\"\",\"\",'Prüfung 2 | Startliste'!F37)","v":""},{"$f":"IF('Prüfung 2 | Startliste'!G37=\"\",\"\",'Prüfung 2 | Startliste'!G37)","v":""},{"$f":"IF('Prüfung 2 | Startliste'!H37=\"\",\"\",'Prüfung 2 | Startliste'!H37)","v":""},"",4]
["",31,{"$f":"IF('Prüfung 2 | Startliste'!A38=\"\",\"\",'Prüfung 2 | Startliste'!A38)","v":""},{"$f":"IF('Prüfung 2 | Startliste'!C38=\"\",\"\",'Prüfung 2 | Startliste'!C38)","v":""},{"$f":"IF('Prüfung 2 | Startliste'!D38=\"\",\"\",'Prüfung 2 | Startliste'!D38)","v":""},{"$f":"IF('Prüfung 2 | Startliste'!E38=\"\",\"\",'Prüfung 2 | Startliste'!E38)","v":""},{"$f":"IF('Prüfung 2 | Startliste'!F38=\"\",\"\",'Prüfung 2 | Startliste'!F38)","v":""},{"$f":"IF('Prüfung 2 | Startliste'!G38=\"\",\"\",'Prüfung 2 | Startliste'!G38)","v":""},{"$f":"IF('Prüfung 2 | Startliste'!H38=\"\",\"\",'Prüfung 2 | Startliste'!H38)","v":""},"",4]
["",32,{"$f":"IF('Prüfung 2 | Startliste'!A39=\"\",\"\",'Prüfung 2 | Startliste'!A39)","v":""},{"$f":"IF('Prüfung 2 | Startliste'!C39=\"\",\"\",'Prüfung 2 | Startliste'!C39)","v":""},{"$f":"IF('Prüfung 2 | Startliste'!D39=\"\",\"\",'Prüfung 2 | Startliste'!D39)","v":""},{"$f":"IF('Prüfung 2 | Startliste'!E39=\"\",\"\",'Prüfung 2 | Startliste'!E39)","v":""},{"$f":"IF('Prüfung 2 | Startliste'!F39=\"\",\"\",'Prüfung 2 | Startliste'!F39)","v":""},{"$f":"IF('Prüfung 2 | Startliste'!G39=\"\",\"\",'Prüfung 2 | Startliste'!G39)","v":""},{"$f":"IF('Prüfung 2 | Startliste'!H39=\"\",\"\",'Prüfung 2 | Startliste'!H39)","v":""},"",4]
["",33,{"$f":"IF('Prüfung 2 | Startliste'!A40=\"\",\"\",'Prüfung 2 | Startliste'!A40)","v":""},{"$f":"IF('Prüfung 2 | Startliste'!C40=\"\",\"\",'Prüfung 2 | Startliste'!C40)","v":""},{"$f":"IF('Prüfung 2 | Startliste'!D40=\"\",\"\",'Prüfung 2 | Startliste'!D40)","v":""},{"$f":"IF('Prüfung 2 | Startliste'!E40=\"\",\"\",'Prüfung 2 | Startliste'!E40)","v":""},{"$f":"IF('Prüfung 2 | Startliste'!F40=\"\",\"\",'Prüfung 2 | Startliste'!F40)","v":""},{"$f":"IF('Prüfung 2 | Startliste'!G40=\"\",\"\",'Prüfung 2 | Startliste'!G40)","v":""},{"$f":"IF('Prüfung 2 | Startliste'!H40=\"\",\"\",'Prüfung 2 | Startliste'!H40)","v":""},{"$f":"IF(D$6=\"Nein\",\"\",IF(I40=\"\",\"\",(F40+H40)))","v":""},{"$f":"IF(D40=\"\",4,IF(C40=\"\",1,IF(C40=\"HC\",2,IF(AC40=\"NS\",3,\"\"))))","v":4}]
["",{"$f":"B40+1","v":34},{"$f":"IF('Prüfung 2 | Startliste'!A41=\"\",\"\",'Prüfung 2 | Startliste'!A41)","v":""},{"$f":"IF('Prüfung 2 | Startliste'!C41=\"\",\"\",'Prüfung 2 | Startliste'!C41)","v":""},{"$f":"IF('Prüfung 2 | Startliste'!D41=\"\",\"\",'Prüfung 2 | Startliste'!D41)","v":""},{"$f":"IF('Prüfung 2 | Startliste'!E41=\"\",\"\",'Prüfung 2 | Startliste'!E41)","v":""},{"$f":"IF('Prüfung 2 | Startliste'!F41=\"\",\"\",'Prüfung 2 | Startliste'!F41)","v":""},{"$f":"IF('Prüfung 2 | Startliste'!G41=\"\",\"\",'Prüfung 2 | Startliste'!G41)","v":""},{"$f":"IF('Prüfung 2 | Startliste'!H41=\"\",\"\",'Prüfung 2 | Startliste'!H41)","v":""},"",4]
["",35,{"$f":"IF('Prüfung 2 | Startliste'!A42=\"\",\"\",'Prüfung 2 | Startliste'!A42)","v":""},{"$f":"IF('Prüfung 2 | Startliste'!C42=\"\",\"\",'Prüfung 2 | Startliste'!C42)","v":""},{"$f":"IF('Prüfung 2 | Startliste'!D42=\"\",\"\",'Prüfung 2 | Startliste'!D42)","v":""},{"$f":"IF('Prüfung 2 | Startliste'!E42=\"\",\"\",'Prüfung 2 | Startliste'!E42)","v":""},{"$f":"IF('Prüfung 2 | Startliste'!F42=\"\",\"\",'Prüfung 2 | Startliste'!F42)","v":""},{"$f":"IF('Prüfung 2 | Startliste'!G42=\"\",\"\",'Prüfung 2 | Startliste'!G42)","v":""},{"$f":"IF('Prüfung 2 | Startliste'!H42=\"\",\"\",'Prüfung 2 | Startliste'!H42)","v":""},"",4]
["",36,{"$f":"IF('Prüfung 2 | Startliste'!A43=\"\",\"\",'Prüfung 2 | Startliste'!A43)","v":""},{"$f":"IF('Prüfung 2 | Startliste'!C43=\"\",\"\",'Prüfung 2 | Startliste'!C43)","v":""},{"$f":"IF('Prüfung 2 | Startliste'!D43=\"\",\"\",'Prüfung 2 | Startliste'!D43)","v":""},{"$f":"IF('Prüfung 2 | Startliste'!E43=\"\",\"\",'Prüfung 2 | Startliste'!E43)","v":""},{"$f":"IF('Prüfung 2 | Startliste'!F43=\"\",\"\",'Prüfung 2 | Startliste'!F43)","v":""},{"$f":"IF('Prüfung 2 | Startliste'!G43=\"\",\"\",'Prüfung 2 | Startliste'!G43)","v":""},{"$f":"IF('Prüfung 2 | Startliste'!H43=\"\",\"\",'Prüfung 2 | Startliste'!H43)","v":""},"",4]
["",37,{"$f":"IF('Prüfung 2 | Startliste'!A44=\"\",\"\",'Prüfung 2 | Startliste'!A44)","v":""},{"$f":"IF('Prüfung 2 | Startliste'!C44=\"\",\"\",'Prüfung 2 | Startliste'!C44)","v":""},{"$f":"IF('Prüfung 2 | Startliste'!D44=\"\",\"\",'Prüfung 2 | Startliste'!D44)","v":""},{"$f":"IF('Prüfung 2 | Startliste'!E44=\"\",\"\",'Prüfung 2 | Startliste'!E44)","v":""},{"$f":"IF('Prüfung 2 | Startliste'!F44=\"\",\"\",'Prüfung 2 | Startliste'!F44)","v":""},{"$f":"IF('Prüfung 2 | Startliste'!G44=\"\",\"\",'Prüfung 2 | Startliste'!G44)","v":""},{"$f":"IF('Prüfung 2 | Startliste'!H44=\"\",\"\",'Prüfung 2 | Startliste'!H44)","v":""},"",4]
["",38,{"$f":"IF('Prüfung 2 | Startliste'!A45=\"\",\"\",'Prüfung 2 | Startliste'!A45)","v":""},{"$f":"IF('Prüfung 2 | Startliste'!C45=\"\",\"\",'Prüfung 2 | Startliste'!C45)","v":""},{"$f":"IF('Prüfung 2 | Startliste'!D45=\"\",\"\",'Prüfung 2 | Startliste'!D45)","v":""},{"$f":"IF('Prüfung 2 | Startliste'!E45=\"\",\"\",'Prüfung 2 | Startliste'!E45)","v":""},{"$f":"IF('Prüfung 2 | Startliste'!F45=\"\",\"\",'Prüfung 2 | Startliste'!F45)","v":""},{"$f":"IF('Prüfung 2 | Startliste'!G45=\"\",\"\",'Prüfung 2 | Startliste'!G45)","v":""},{"$f":"IF('Prüfung 2 | Startliste'!H45=\"\",\"\",'Prüfung 2 | Startliste'!H45)","v":""},"",4]
["",39,{"$f":"IF('Prüfung 2 | Startliste'!A46=\"\",\"\",'Prüfung 2 | Startliste'!A46)","v":""},{"$f":"IF('Prüfung 2 | Startliste'!C46=\"\",\"\",'Prüfung 2 | Startliste'!C46)","v":""},{"$f":"IF('Prüfung 2 | Startliste'!D46=\"\",\"\",'Prüfung 2 | Startliste'!D46)","v":""},{"$f":"IF('Prüfung 2 | Startliste'!E46=\"\",\"\",'Prüfung 2 | Startliste'!E46)","v":""},{"$f":"IF('Prüfung 2 | Startliste'!F46=\"\",\"\",'Prüfung 2 | Startliste'!F46)","v":""},{"$f":"IF('Prüfung 2 | Startliste'!G46=\"\",\"\",'Prüfung 2 | Startliste'!G46)","v":""},{"$f":"IF('Prüfung 2 | Startliste'!H46=\"\",\"\",'Prüfung 2 | Startliste'!H46)","v":""},"",4]
["",40,{"$f":"IF('Prüfung 2 | Startliste'!A47=\"\",\"\",'Prüfung 2 | Startliste'!A47)","v":""},{"$f":"IF('Prüfung 2 | Startliste'!C47=\"\",\"\",'Prüfung 2 | Startliste'!C47)","v":""},{"$f":"IF('Prüfung 2 | Startliste'!D47=\"\",\"\",'Prüfung 2 | Startliste'!D47)","v":""},{"$f":"IF('Prüfung 2 | Startliste'!E47=\"\",\"\",'Prüfung 2 | Startliste'!E47)","v":""},{"$f":"IF('Prüfung 2 | Startliste'!F47=\"\",\"\",'Prüfung 2 | Startliste'!F47)","v":""},{"$f":"IF('Prüfung 2 | Startliste'!G47=\"\",\"\",'Prüfung 2 | Startliste'!G47)","v":""},{"$f":"IF('Prüfung 2 | Startliste'!H47=\"\",\"\",'Prüfung 2 | Startliste'!H47)","v":""},"",4]
["",41,{"$f":"IF('Prüfung 2 | Startliste'!A48=\"\",\"\",'Prüfung 2 | Startliste'!A48)","v":""},{"$f":"IF('Prüfung 2 | Startliste'!C48=\"\",\"\",'Prüfung 2 | Startliste'!C48)","v":""},{"$f":"IF('Prüfung 2 | Startliste'!D48=\"\",\"\",'Prüfung 2 | Startliste'!D48)","v":""},{"$f":"IF('Prüfung 2 | Startliste'!E48=\"\",\"\",'Prüfung 2 | Startliste'!E48)","v":""},{"$f":"IF('Prüfung 2 | Startliste'!F48=\"\",\"\",'Prüfung 2 | Startliste'!F48)","v":""},{"$f":"IF('Prüfung 2 | Startliste'!G48=\"\",\"\",'Prüfung 2 | Startliste'!G48)","v":""},{"$f":"IF('Prüfung 2 | Startliste'!H48=\"\",\"\",'Prüfung 2 | Startliste'!H48)","v":""},"",4]
["",42,{"$f":"IF('Prüfung 2 | Startliste'!A49=\"\",\"\",'Prüfung 2 | Startliste'!A49)","v":""},{"$f":"IF('Prüfung 2 | Startliste'!C49=\"\",\"\",'Prüfung 2 | Startliste'!C49)","v":""},{"$f":"IF('Prüfung 2 | Startliste'!D49=\"\",\"\",'Prüfung 2 | Startliste'!D49)","v":""},{"$f":"IF('Prüfung 2 | Startliste'!E49=\"\",\"\",'Prüfung 2 | Startliste'!E49)","v":""},{"$f":"IF('Prüfung 2 | Startliste'!F49=\"\",\"\",'Prüfung 2 | Startliste'!F49)","v":""},{"$f":"IF('Prüfung 2 | Startliste'!G49=\"\",\"\",'Prüfung 2 | Startliste'!G49)","v":""},{"$f":"IF('Prüfung 2 | Startliste'!H49=\"\",\"\",'Prüfung 2 | Startliste'!H49)","v":""},"",4]
["",43,{"$f":"IF('Prüfung 2 | Startliste'!A50=\"\",\"\",'Prüfung 2 | Startliste'!A50)","v":""},{"$f":"IF('Prüfung 2 | Startliste'!C50=\"\",\"\",'Prüfung 2 | Startliste'!C50)","v":""},{"$f":"IF('Prüfung 2 | Startliste'!D50=\"\",\"\",'Prüfung 2 | Startliste'!D50)","v":""},{"$f":"IF('Prüfung 2 | Startliste'!E50=\"\",\"\",'Prüfung 2 | Startliste'!E50)","v":""},{"$f":"IF('Prüfung 2 | Startliste'!F50=\"\",\"\",'Prüfung 2 | Startliste'!F50)","v":""},{"$f":"IF('Prüfung 2 | Startliste'!G50=\"\",\"\",'Prüfung 2 | Startliste'!G50)","v":""},{"$f":"IF('Prüfung 2 | Startliste'!H50=\"\",\"\",'Prüfung 2 | Startliste'!H50)","v":""},"",4]
["",44,{"$f":"IF('Prüfung 2 | Startliste'!A51=\"\",\"\",'Prüfung 2 | Startliste'!A51)","v":""},{"$f":"IF('Prüfung 2 | Startliste'!C51=\"\",\"\",'Prüfung 2 | Startliste'!C51)","v":""},{"$f":"IF('Prüfung 2 | Startliste'!D51=\"\",\"\",'Prüfung 2 | Startliste'!D51)","v":""},{"$f":"IF('Prüfung 2 | Startliste'!E51=\"\",\"\",'Prüfung 2 | Startliste'!E51)","v":""},{"$f":"IF('Prüfung 2 | Startliste'!F51=\"\",\"\",'Prüfung 2 | Startliste'!F51)","v":""},{"$f":"IF('Prüfung 2 | Startliste'!G51=\"\",\"\",'Prüfung 2 | Startliste'!G51)","v":""},{"$f":"IF('Prüfung 2 | Startliste'!H51=\"\",\"\",'Prüfung 2 | Startliste'!H51)","v":""},"",4]
["",45,{"$f":"IF('Prüfung 2 | Startliste'!A52=\"\",\"\",'Prüfung 2 | Startliste'!A52)","v":""},{"$f":"IF('Prüfung 2 | Startliste'!C52=\"\",\"\",'Prüfung 2 | Startliste'!C52)","v":""},{"$f":"IF('Prüfung 2 | Startliste'!D52=\"\",\"\",'Prüfung 2 | Startliste'!D52)","v":""},{"$f":"IF('Prüfung 2 | Startliste'!E52=\"\",\"\",'Prüfung 2 | Startliste'!E52)","v":""},{"$f":"IF('Prüfung 2 | Startliste'!F52=\"\",\"\",'Prüfung 2 | Startliste'!F52)","v":""},{"$f":"IF('Prüfung 2 | Startliste'!G52=\"\",\"\",'Prüfung 2 | Startliste'!G52)","v":""},{"$f":"IF('Prüfung 2 | Startliste'!H52=\"\",\"\",'Prüfung 2 | Startliste'!H52)","v":""},"",4]
["",46,{"$f":"IF('Prüfung 2 | Startliste'!A53=\"\",\"\",'Prüfung 2 | Startliste'!A53)","v":""},{"$f":"IF('Prüfung 2 | Startliste'!C53=\"\",\"\",'Prüfung 2 | Startliste'!C53)","v":""},{"$f":"IF('Prüfung 2 | Startliste'!D53=\"\",\"\",'Prüfung 2 | Startliste'!D53)","v":""},{"$f":"IF('Prüfung 2 | Startliste'!E53=\"\",\"\",'Prüfung 2 | Startliste'!E53)","v":""},{"$f":"IF('Prüfung 2 | Startliste'!F53=\"\",\"\",'Prüfung 2 | Startliste'!F53)","v":""},{"$f":"IF('Prüfung 2 | Startliste'!G53=\"\",\"\",'Prüfung 2 | Startliste'!G53)","v":""},{"$f":"IF('Prüfung 2 | Startliste'!H53=\"\",\"\",'Prüfung 2 | Startliste'!H53)","v":""},"",4]
["",47,{"$f":"IF('Prüfung 2 | Startliste'!A54=\"\",\"\",'Prüfung 2 | Startliste'!A54)","v":""},{"$f":"IF('Prüfung 2 | Startliste'!C54=\"\",\"\",'Prüfung 2 | Startliste'!C54)","v":""},{"$f":"IF('Prüfung 2 | Startliste'!D54=\"\",\"\",'Prüfung 2 | Startliste'!D54)","v":""},{"$f":"IF('Prüfung 2 | Startliste'!E54=\"\",\"\",'Prüfung 2 | Startliste'!E54)","v":""},{"$f":"IF('Prüfung 2 | Startliste'!F54=\"\",\"\",'Prüfung 2 | Startliste'!F54)","v":""},{"$f":"IF('Prüfung 2 | Startliste'!G54=\"\",\"\",'Prüfung 2 | Startliste'!G54)","v":""},{"$f":"IF('Prüfung 2 | Startliste'!H54=\"\",\"\",'Prüfung 2 | Startliste'!H54)","v":""},"",4]
["",48,{"$f":"IF('Prüfung 2 | Startliste'!A55=\"\",\"\",'Prüfung 2 | Startliste'!A55)","v":""},{"$f":"IF('Prüfung 2 | Startliste'!C55=\"\",\"\",'Prüfung 2 | Startliste'!C55)","v":""},{"$f":"IF('Prüfung 2 | Startliste'!D55=\"\",\"\",'Prüfung 2 | Startliste'!D55)","v":""},{"$f":"IF('Prüfung 2 | Startliste'!E55=\"\",\"\",'Prüfung 2 | Startliste'!E55)","v":""},{"$f":"IF('Prüfung 2 | Startliste'!F55=\"\",\"\",'Prüfung 2 | Startliste'!F55)","v":""},{"$f":"IF('Prüfung 2 | Startliste'!G55=\"\",\"\",'Prüfung 2 | Startliste'!G55)","v":""},{"$f":"IF('Prüfung 2 | Startliste'!H55=\"\",\"\",'Prüfung 2 | Startliste'!H55)","v":""},"",4]
["",49,{"$f":"IF('Prüfung 2 | Startliste'!A56=\"\",\"\",'Prüfung 2 | Startliste'!A56)","v":""},{"$f":"IF('Prüfung 2 | Startliste'!C56=\"\",\"\",'Prüfung 2 | Startliste'!C56)","v":""},{"$f":"IF('Prüfung 2 | Startliste'!D56=\"\",\"\",'Prüfung 2 | Startliste'!D56)","v":""},{"$f":"IF('Prüfung 2 | Startliste'!E56=\"\",\"\",'Prüfung 2 | Startliste'!E56)","v":""},{"$f":"IF('Prüfung 2 | Startliste'!F56=\"\",\"\",'Prüfung 2 | Startliste'!F56)","v":""},{"$f":"IF('Prüfung 2 | Startliste'!G56=\"\",\"\",'Prüfung 2 | Startliste'!G56)","v":""},{"$f":"IF('Prüfung 2 | Startliste'!H56=\"\",\"\",'Prüfung 2 | Startliste'!H56)","v":""},"",4]
["",50,{"$f":"IF('Prüfung 2 | Startliste'!A57=\"\",\"\",'Prüfung 2 | Startliste'!A57)","v":""},{"$f":"IF('Prüfung 2 | Startliste'!C57=\"\",\"\",'Prüfung 2 | Startliste'!C57)","v":""},{"$f":"IF('Prüfung 2 | Startliste'!D57=\"\",\"\",'Prüfung 2 | Startliste'!D57)","v":""},{"$f":"IF('Prüfung 2 | Startliste'!E57=\"\",\"\",'Prüfung 2 | Startliste'!E57)","v":""},{"$f":"IF('Prüfung 2 | Startliste'!F57=\"\",\"\",'Prüfung 2 | Startliste'!F57)","v":""},{"$f":"IF('Prüfung 2 | Startliste'!G57=\"\",\"\",'Prüfung 2 | Startliste'!G57)","v":""},{"$f":"IF('Prüfung 2 | Startliste'!H57=\"\",\"\",'Prüfung 2 | Startliste'!H57)","v":""},"",4]
["",51,{"$f":"IF('Prüfung 2 | Startliste'!A58=\"\",\"\",'Prüfung 2 | Startliste'!A58)","v":""},{"$f":"IF('Prüfung 2 | Startliste'!C58=\"\",\"\",'Prüfung 2 | Startliste'!C58)","v":""},{"$f":"IF('Prüfung 2 | Startliste'!D58=\"\",\"\",'Prüfung 2 | Startliste'!D58)","v":""},{"$f":"IF('Prüfung 2 | Startliste'!E58=\"\",\"\",'Prüfung 2 | Startliste'!E58)","v":""},{"$f":"IF('Prüfung 2 | Startliste'!F58=\"\",\"\",'Prüfung 2 | Startliste'!F58)","v":""},{"$f":"IF('Prüfung 2 | Startliste'!G58=\"\",\"\",'Prüfung 2 | Startliste'!G58)","v":""},{"$f":"IF('Prüfung 2 | Startliste'!H58=\"\",\"\",'Prüfung 2 | Startliste'!H58)","v":""},"",4]
["",52,{"$f":"IF('Prüfung 2 | Startliste'!A59=\"\",\"\",'Prüfung 2 | Startliste'!A59)","v":""},{"$f":"IF('Prüfung 2 | Startliste'!C59=\"\",\"\",'Prüfung 2 | Startliste'!C59)","v":""},{"$f":"IF('Prüfung 2 | Startliste'!D59=\"\",\"\",'Prüfung 2 | Startliste'!D59)","v":""},{"$f":"IF('Prüfung 2 | Startliste'!E59=\"\",\"\",'Prüfung 2 | Startliste'!E59)","v":""},{"$f":"IF('Prüfung 2 | Startliste'!F59=\"\",\"\",'Prüfung 2 | Startliste'!F59)","v":""},{"$f":"IF('Prüfung 2 | Startliste'!G59=\"\",\"\",'Prüfung 2 | Startliste'!G59)","v":""},{"$f":"IF('Prüfung 2 | Startliste'!H59=\"\",\"\",'Prüfung 2 | Startliste'!H59)","v":""},"",4]
["",53,{"$f":"IF('Prüfung 2 | Startliste'!A60=\"\",\"\",'Prüfung 2 | Startliste'!A60)","v":""},{"$f":"IF('Prüfung 2 | Startliste'!C60=\"\",\"\",'Prüfung 2 | Startliste'!C60)","v":""},{"$f":"IF('Prüfung 2 | Startliste'!D60=\"\",\"\",'Prüfung 2 | Startliste'!D60)","v":""},{"$f":"IF('Prüfung 2 | Startliste'!E60=\"\",\"\",'Prüfung 2 | Startliste'!E60)","v":""},{"$f":"IF('Prüfung 2 | Startliste'!F60=\"\",\"\",'Prüfung 2 | Startliste'!F60)","v":""},{"$f":"IF('Prüfung 2 | Startliste'!G60=\"\",\"\",'Prüfung 2 | Startliste'!G60)","v":""},{"$f":"IF('Prüfung 2 | Startliste'!H60=\"\",\"\",'Prüfung 2 | Startliste'!H60)","v":""},"",4]
["",54,{"$f":"IF('Prüfung 2 | Startliste'!A61=\"\",\"\",'Prüfung 2 | Startliste'!A61)","v":""},{"$f":"IF('Prüfung 2 | Startliste'!C61=\"\",\"\",'Prüfung 2 | Startliste'!C61)","v":""},{"$f":"IF('Prüfung 2 | Startliste'!D61=\"\",\"\",'Prüfung 2 | Startliste'!D61)","v":""},{"$f":"IF('Prüfung 2 | Startliste'!E61=\"\",\"\",'Prüfung 2 | Startliste'!E61)","v":""},{"$f":"IF('Prüfung 2 | Startliste'!F61=\"\",\"\",'Prüfung 2 | Startliste'!F61)","v":""},{"$f":"IF('Prüfung 2 | Startliste'!G61=\"\",\"\",'Prüfung 2 | Startliste'!G61)","v":""},{"$f":"IF('Prüfung 2 | Startliste'!H61=\"\",\"\",'Prüfung 2 | Startliste'!H61)","v":""},"",4]
["",55,{"$f":"IF('Prüfung 2 | Startliste'!A62=\"\",\"\",'Prüfung 2 | Startliste'!A62)","v":""},{"$f":"IF('Prüfung 2 | Startliste'!C62=\"\",\"\",'Prüfung 2 | Startliste'!C62)","v":""},{"$f":"IF('Prüfung 2 | Startliste'!D62=\"\",\"\",'Prüfung 2 | Startliste'!D62)","v":""},{"$f":"IF('Prüfung 2 | Startliste'!E62=\"\",\"\",'Prüfung 2 | Startliste'!E62)","v":""},{"$f":"IF('Prüfung 2 | Startliste'!F62=\"\",\"\",'Prüfung 2 | Startliste'!F62)","v":""},{"$f":"IF('Prüfung 2 | Startliste'!G62=\"\",\"\",'Prüfung 2 | Startliste'!G62)","v":""},{"$f":"IF('Prüfung 2 | Startliste'!H62=\"\",\"\",'Prüfung 2 | Startliste'!H62)","v":""},"",4]
["",56,{"$f":"IF('Prüfung 2 | Startliste'!A63=\"\",\"\",'Prüfung 2 | Startliste'!A63)","v":""},{"$f":"IF('Prüfung 2 | Startliste'!C63=\"\",\"\",'Prüfung 2 | Startliste'!C63)","v":""},{"$f":"IF('Prüfung 2 | Startliste'!D63=\"\",\"\",'Prüfung 2 | Startliste'!D63)","v":""},{"$f":"IF('Prüfung 2 | Startliste'!E63=\"\",\"\",'Prüfung 2 | Startliste'!E63)","v":""},{"$f":"IF('Prüfung 2 | Startliste'!F63=\"\",\"\",'Prüfung 2 | Startliste'!F63)","v":""},{"$f":"IF('Prüfung 2 | Startliste'!G63=\"\",\"\",'Prüfung 2 | Startliste'!G63)","v":""},{"$f":"IF('Prüfung 2 | Startliste'!H63=\"\",\"\",'Prüfung 2 | Startliste'!H63)","v":""},"",4]
["",57,{"$f":"IF('Prüfung 2 | Startliste'!A64=\"\",\"\",'Prüfung 2 | Startliste'!A64)","v":""},{"$f":"IF('Prüfung 2 | Startliste'!C64=\"\",\"\",'Prüfung 2 | Startliste'!C64)","v":""},{"$f":"IF('Prüfung 2 | Startliste'!D64=\"\",\"\",'Prüfung 2 | Startliste'!D64)","v":""},{"$f":"IF('Prüfung 2 | Startliste'!E64=\"\",\"\",'Prüfung 2 | Startliste'!E64)","v":""},{"$f":"IF('Prüfung 2 | Startliste'!F64=\"\",\"\",'Prüfung 2 | Startliste'!F64)","v":""},{"$f":"IF('Prüfung 2 | Startliste'!G64=\"\",\"\",'Prüfung 2 | Startliste'!G64)","v":""},{"$f":"IF('Prüfung 2 | Startliste'!H64=\"\",\"\",'Prüfung 2 | Startliste'!H64)","v":""},"",4]
["",58,{"$f":"IF('Prüfung 2 | Startliste'!A65=\"\",\"\",'Prüfung 2 | Startliste'!A65)","v":""},{"$f":"IF('Prüfung 2 | Startliste'!C65=\"\",\"\",'Prüfung 2 | Startliste'!C65)","v":""},{"$f":"IF('Prüfung 2 | Startliste'!D65=\"\",\"\",'Prüfung 2 | Startliste'!D65)","v":""},{"$f":"IF('Prüfung 2 | Startliste'!E65=\"\",\"\",'Prüfung 2 | Startliste'!E65)","v":""},{"$f":"IF('Prüfung 2 | Startliste'!F65=\"\",\"\",'Prüfung 2 | Startliste'!F65)","v":""},{"$f":"IF('Prüfung 2 | Startliste'!G65=\"\",\"\",'Prüfung 2 | Startliste'!G65)","v":""},{"$f":"IF('Prüfung 2 | Startliste'!H65=\"\",\"\",'Prüfung 2 | Startliste'!H65)","v":""},"",4]
["",59,{"$f":"IF('Prüfung 2 | Startliste'!A66=\"\",\"\",'Prüfung 2 | Startliste'!A66)","v":""},{"$f":"IF('Prüfung 2 | Startliste'!C66=\"\",\"\",'Prüfung 2 | Startliste'!C66)","v":""},{"$f":"IF('Prüfung 2 | Startliste'!D66=\"\",\"\",'Prüfung 2 | Startliste'!D66)","v":""},{"$f":"IF('Prüfung 2 | Startliste'!E66=\"\",\"\",'Prüfung 2 | Startliste'!E66)","v":""},{"$f":"IF('Prüfung 2 | Startliste'!F66=\"\",\"\",'Prüfung 2 | Startliste'!F66)","v":""},{"$f":"IF('Prüfung 2 | Startliste'!G66=\"\",\"\",'Prüfung 2 | Startliste'!G66)","v":""},{"$f":"IF('Prüfung 2 | Startliste'!H66=\"\",\"\",'Prüfung 2 | Startliste'!H66)","v":""},"",4]
["",60,{"$f":"IF('Prüfung 2 | Startliste'!A67=\"\",\"\",'Prüfung 2 | Startliste'!A67)","v":""},{"$f":"IF('Prüfung 2 | Startliste'!C67=\"\",\"\",'Prüfung 2 | Startliste'!C67)","v":""},{"$f":"IF('Prüfung 2 | Startliste'!D67=\"\",\"\",'Prüfung 2 | Startliste'!D67)","v":""},{"$f":"IF('Prüfung 2 | Startliste'!E67=\"\",\"\",'Prüfung 2 | Startliste'!E67)","v":""},{"$f":"IF('Prüfung 2 | Startliste'!F67=\"\",\"\",'Prüfung 2 | Startliste'!F67)","v":""},{"$f":"IF('Prüfung 2 | Startliste'!G67=\"\",\"\",'Prüfung 2 | Startliste'!G67)","v":""},{"$f":"IF('Prüfung 2 | Startliste'!H67=\"\",\"\",'Prüfung 2 | Startliste'!H67)","v":""},"",4]
["",61,{"$f":"IF('Prüfung 2 | Startliste'!A68=\"\",\"\",'Prüfung 2 | Startliste'!A68)","v":""},{"$f":"IF('Prüfung 2 | Startliste'!C68=\"\",\"\",'Prüfung 2 | Startliste'!C68)","v":""},{"$f":"IF('Prüfung 2 | Startliste'!D68=\"\",\"\",'Prüfung 2 | Startliste'!D68)","v":""},{"$f":"IF('Prüfung 2 | Startliste'!E68=\"\",\"\",'Prüfung 2 | Startliste'!E68)","v":""},{"$f":"IF('Prüfung 2 | Startliste'!F68=\"\",\"\",'Prüfung 2 | Startliste'!F68)","v":""},{"$f":"IF('Prüfung 2 | Startliste'!G68=\"\",\"\",'Prüfung 2 | Startliste'!G68)","v":""},{"$f":"IF('Prüfung 2 | Startliste'!H68=\"\",\"\",'Prüfung 2 | Startliste'!H68)","v":""},"",4]
["",62,{"$f":"IF('Prüfung 2 | Startliste'!A69=\"\",\"\",'Prüfung 2 | Startliste'!A69)","v":""},{"$f":"IF('Prüfung 2 | Startliste'!C69=\"\",\"\",'Prüfung 2 | Startliste'!C69)","v":""},{"$f":"IF('Prüfung 2 | Startliste'!D69=\"\",\"\",'Prüfung 2 | Startliste'!D69)","v":""},{"$f":"IF('Prüfung 2 | Startliste'!E69=\"\",\"\",'Prüfung 2 | Startliste'!E69)","v":""},{"$f":"IF('Prüfung 2 | Startliste'!F69=\"\",\"\",'Prüfung 2 | Startliste'!F69)","v":""},{"$f":"IF('Prüfung 2 | Startliste'!G69=\"\",\"\",'Prüfung 2 | Startliste'!G69)","v":""},{"$f":"IF('Prüfung 2 | Startliste'!H69=\"\",\"\",'Prüfung 2 | Startliste'!H69)","v":""},"",4]
["",63,{"$f":"IF('Prüfung 2 | Startliste'!A70=\"\",\"\",'Prüfung 2 | Startliste'!A70)","v":""},{"$f":"IF('Prüfung 2 | Startliste'!C70=\"\",\"\",'Prüfung 2 | Startliste'!C70)","v":""},{"$f":"IF('Prüfung 2 | Startliste'!D70=\"\",\"\",'Prüfung 2 | Startliste'!D70)","v":""},{"$f":"IF('Prüfung 2 | Startliste'!E70=\"\",\"\",'Prüfung 2 | Startliste'!E70)","v":""},{"$f":"IF('Prüfung 2 | Startliste'!F70=\"\",\"\",'Prüfung 2 | Startliste'!F70)","v":""},{"$f":"IF('Prüfung 2 | Startliste'!G70=\"\",\"\",'Prüfung 2 | Startliste'!G70)","v":""},{"$f":"IF('Prüfung 2 | Startliste'!H70=\"\",\"\",'Prüfung 2 | Startliste'!H70)","v":""},"",4]
["",64,{"$f":"IF('Prüfung 2 | Startliste'!A71=\"\",\"\",'Prüfung 2 | Startliste'!A71)","v":""},{"$f":"IF('Prüfung 2 | Startliste'!C71=\"\",\"\",'Prüfung 2 | Startliste'!C71)","v":""},{"$f":"IF('Prüfung 2 | Startliste'!D71=\"\",\"\",'Prüfung 2 | Startliste'!D71)","v":""},{"$f":"IF('Prüfung 2 | Startliste'!E71=\"\",\"\",'Prüfung 2 | Startliste'!E71)","v":""},{"$f":"IF('Prüfung 2 | Startliste'!F71=\"\",\"\",'Prüfung 2 | Startliste'!F71)","v":""},{"$f":"IF('Prüfung 2 | Startliste'!G71=\"\",\"\",'Prüfung 2 | Startliste'!G71)","v":""},{"$f":"IF('Prüfung 2 | Startliste'!H71=\"\",\"\",'Prüfung 2 | Startliste'!H71)","v":""},"",4]
["",65,{"$f":"IF('Prüfung 2 | Startliste'!A72=\"\",\"\",'Prüfung 2 | Startliste'!A72)","v":""},{"$f":"IF('Prüfung 2 | Startliste'!C72=\"\",\"\",'Prüfung 2 | Startliste'!C72)","v":""},{"$f":"IF('Prüfung 2 | Startliste'!D72=\"\",\"\",'Prüfung 2 | Startliste'!D72)","v":""},{"$f":"IF('Prüfung 2 | Startliste'!E72=\"\",\"\",'Prüfung 2 | Startliste'!E72)","v":""},{"$f":"IF('Prüfung 2 | Startliste'!F72=\"\",\"\",'Prüfung 2 | Startliste'!F72)","v":""},{"$f":"IF('Prüfung 2 | Startliste'!G72=\"\",\"\",'Prüfung 2 | Startliste'!G72)","v":""},{"$f":"IF('Prüfung 2 | Startliste'!H72=\"\",\"\",'Prüfung 2 | Startliste'!H72)","v":""},{"$f":"IF(D$6=\"Nein\",\"\",IF(I72=\"\",\"\",(F72+H72)))","v":""},{"$f":"IF(D72=\"\",4,IF(C72=\"\",1,IF(C72=\"HC\",2,IF(AC72=\"NS\",3,\"\"))))","v":4}]
[{"$f":"IF(B73<=A$7,\"kl.\",\"\")","v":""},{"$f":"B72+1","v":66},{"$f":"IF('Prüfung 2 | Startliste'!A73=\"\",\"\",'Prüfung 2 | Startliste'!A73)","v":""},{"$f":"IF('Prüfung 2 | Startliste'!C73=\"\",\"\",'Prüfung 2 | Startliste'!C73)","v":""},{"$f":"IF('Prüfung 2 | Startliste'!D73=\"\",\"\",'Prüfung 2 | Startliste'!D73)","v":""},{"$f":"IF('Prüfung 2 | Startliste'!E73=\"\",\"\",'Prüfung 2 | Startliste'!E73)","v":""},{"$f":"IF('Prüfung 2 | Startliste'!F73=\"\",\"\",'Prüfung 2 | Startliste'!F73)","v":""},{"$f":"IF('Prüfung 2 | Startliste'!G73=\"\",\"\",'Prüfung 2 | Startliste'!G73)","v":""},{"$f":"IF('Prüfung 2 | Startliste'!H73=\"\",\"\",'Prüfung 2 | Startliste'!H73)","v":""},"",4]
["",67,{"$f":"IF('Prüfung 2 | Startliste'!A74=\"\",\"\",'Prüfung 2 | Startliste'!A74)","v":""},{"$f":"IF('Prüfung 2 | Startliste'!C74=\"\",\"\",'Prüfung 2 | Startliste'!C74)","v":""},{"$f":"IF('Prüfung 2 | Startliste'!D74=\"\",\"\",'Prüfung 2 | Startliste'!D74)","v":""},{"$f":"IF('Prüfung 2 | Startliste'!E74=\"\",\"\",'Prüfung 2 | Startliste'!E74)","v":""},{"$f":"IF('Prüfung 2 | Startliste'!F74=\"\",\"\",'Prüfung 2 | Startliste'!F74)","v":""},{"$f":"IF('Prüfung 2 | Startliste'!G74=\"\",\"\",'Prüfung 2 | Startliste'!G74)","v":""},{"$f":"IF('Prüfung 2 | Startliste'!H74=\"\",\"\",'Prüfung 2 | Startliste'!H74)","v":""},"",4]
["",68,{"$f":"IF('Prüfung 2 | Startliste'!A75=\"\",\"\",'Prüfung 2 | Startliste'!A75)","v":""},{"$f":"IF('Prüfung 2 | Startliste'!C75=\"\",\"\",'Prüfung 2 | Startliste'!C75)","v":""},{"$f":"IF('Prüfung 2 | Startliste'!D75=\"\",\"\",'Prüfung 2 | Startliste'!D75)","v":""},{"$f":"IF('Prüfung 2 | Startliste'!E75=\"\",\"\",'Prüfung 2 | Startliste'!E75)","v":""},{"$f":"IF('Prüfung 2 | Startliste'!F75=\"\",\"\",'Prüfung 2 | Startliste'!F75)","v":""},{"$f":"IF('Prüfung 2 | Startliste'!G75=\"\",\"\",'Prüfung 2 | Startliste'!G75)","v":""},{"$f":"IF('Prüfung 2 | Startliste'!H75=\"\",\"\",'Prüfung 2 | Startliste'!H75)","v":""},"",4]
["",69,{"$f":"IF('Prüfung 2 | Startliste'!A76=\"\",\"\",'Prüfung 2 | Startliste'!A76)","v":""},{"$f":"IF('Prüfung 2 | Startliste'!C76=\"\",\"\",'Prüfung 2 | Startliste'!C76)","v":""},{"$f":"IF('Prüfung 2 | Startliste'!D76=\"\",\"\",'Prüfung 2 | Startliste'!D76)","v":""},{"$f":"IF('Prüfung 2 | Startliste'!E76=\"\",\"\",'Prüfung 2 | Startliste'!E76)","v":""},{"$f":"IF('Prüfung 2 | Startliste'!F76=\"\",\"\",'Prüfung 2 | Startliste'!F76)","v":""},{"$f":"IF('Prüfung 2 | Startliste'!G76=\"\",\"\",'Prüfung 2 | Startliste'!G76)","v":""},{"$f":"IF('Prüfung 2 | Startliste'!H76=\"\",\"\",'Prüfung 2 | Startliste'!H76)","v":""},"",4]
["",70,{"$f":"IF('Prüfung 2 | Startliste'!A77=\"\",\"\",'Prüfung 2 | Startliste'!A77)","v":""},{"$f":"IF('Prüfung 2 | Startliste'!C77=\"\",\"\",'Prüfung 2 | Startliste'!C77)","v":""},{"$f":"IF('Prüfung 2 | Startliste'!D77=\"\",\"\",'Prüfung 2 | Startliste'!D77)","v":""},{"$f":"IF('Prüfung 2 | Startliste'!E77=\"\",\"\",'Prüfung 2 | Startliste'!E77)","v":""},{"$f":"IF('Prüfung 2 | Startliste'!F77=\"\",\"\",'Prüfung 2 | Startliste'!F77)","v":""},{"$f":"IF('Prüfung 2 | Startliste'!G77=\"\",\"\",'Prüfung 2 | Startliste'!G77)","v":""},{"$f":"IF('Prüfung 2 | Startliste'!H77=\"\",\"\",'Prüfung 2 | Startliste'!H77)","v":""},"",4]
["",71,{"$f":"IF('Prüfung 2 | Startliste'!A78=\"\",\"\",'Prüfung 2 | Startliste'!A78)","v":""},{"$f":"IF('Prüfung 2 | Startliste'!C78=\"\",\"\",'Prüfung 2 | Startliste'!C78)","v":""},{"$f":"IF('Prüfung 2 | Startliste'!D78=\"\",\"\",'Prüfung 2 | Startliste'!D78)","v":""},{"$f":"IF('Prüfung 2 | Startliste'!E78=\"\",\"\",'Prüfung 2 | Startliste'!E78)","v":""},{"$f":"IF('Prüfung 2 | Startliste'!F78=\"\",\"\",'Prüfung 2 | Startliste'!F78)","v":""},{"$f":"IF('Prüfung 2 | Startliste'!G78=\"\",\"\",'Prüfung 2 | Startliste'!G78)","v":""},{"$f":"IF('Prüfung 2 | Startliste'!H78=\"\",\"\",'Prüfung 2 | Startliste'!H78)","v":""},"",4]
["",72,{"$f":"IF('Prüfung 2 | Startliste'!A79=\"\",\"\",'Prüfung 2 | Startliste'!A79)","v":""},{"$f":"IF('Prüfung 2 | Startliste'!C79=\"\",\"\",'Prüfung 2 | Startliste'!C79)","v":""},{"$f":"IF('Prüfung 2 | Startliste'!D79=\"\",\"\",'Prüfung 2 | Startliste'!D79)","v":""},{"$f":"IF('Prüfung 2 | Startliste'!E79=\"\",\"\",'Prüfung 2 | Startliste'!E79)","v":""},{"$f":"IF('Prüfung 2 | Startliste'!F79=\"\",\"\",'Prüfung 2 | Startliste'!F79)","v":""},{"$f":"IF('Prüfung 2 | Startliste'!G79=\"\",\"\",'Prüfung 2 | Startliste'!G79)","v":""},{"$f":"IF('Prüfung 2 | Startliste'!H79=\"\",\"\",'Prüfung 2 | Startliste'!H79)","v":""},"",4]
["",73,{"$f":"IF('Prüfung 2 | Startliste'!A80=\"\",\"\",'Prüfung 2 | Startliste'!A80)","v":""},{"$f":"IF('Prüfung 2 | Startliste'!C80=\"\",\"\",'Prüfung 2 | Startliste'!C80)","v":""},{"$f":"IF('Prüfung 2 | Startliste'!D80=\"\",\"\",'Prüfung 2 | Startliste'!D80)","v":""},{"$f":"IF('Prüfung 2 | Startliste'!E80=\"\",\"\",'Prüfung 2 | Startliste'!E80)","v":""},{"$f":"IF('Prüfung 2 | Startliste'!F80=\"\",\"\",'Prüfung 2 | Startliste'!F80)","v":""},{"$f":"IF('Prüfung 2 | Startliste'!G80=\"\",\"\",'Prüfung 2 | Startliste'!G80)","v":""},{"$f":"IF('Prüfung 2 | Startliste'!H80=\"\",\"\",'Prüfung 2 | Startliste'!H80)","v":""},"",4]
["",74,{"$f":"IF('Prüfung 2 | Startliste'!A81=\"\",\"\",'Prüfung 2 | Startliste'!A81)","v":""},{"$f":"IF('Prüfung 2 | Startliste'!C81=\"\",\"\",'Prüfung 2 | Startliste'!C81)","v":""},{"$f":"IF('Prüfung 2 | Startliste'!D81=\"\",\"\",'Prüfung 2 | Startliste'!D81)","v":""},{"$f":"IF('Prüfung 2 | Startliste'!E81=\"\",\"\",'Prüfung 2 | Startliste'!E81)","v":""},{"$f":"IF('Prüfung 2 | Startliste'!F81=\"\",\"\",'Prüfung 2 | Startliste'!F81)","v":""},{"$f":"IF('Prüfung 2 | Startliste'!G81=\"\",\"\",'Prüfung 2 | Startliste'!G81)","v":""},{"$f":"IF('Prüfung 2 | Startliste'!H81=\"\",\"\",'Prüfung 2 | Startliste'!H81)","v":""},"",4]
["",75,{"$f":"IF('Prüfung 2 | Startliste'!A82=\"\",\"\",'Prüfung 2 | Startliste'!A82)","v":""},{"$f":"IF('Prüfung 2 | Startliste'!C82=\"\",\"\",'Prüfung 2 | Startliste'!C82)","v":""},{"$f":"IF('Prüfung 2 | Startliste'!D82=\"\",\"\",'Prüfung 2 | Startliste'!D82)","v":""},{"$f":"IF('Prüfung 2 | Startliste'!E82=\"\",\"\",'Prüfung 2 | Startliste'!E82)","v":""},{"$f":"IF('Prüfung 2 | Startliste'!F82=\"\",\"\",'Prüfung 2 | Startliste'!F82)","v":""},{"$f":"IF('Prüfung 2 | Startliste'!G82=\"\",\"\",'Prüfung 2 | Startliste'!G82)","v":""},{"$f":"IF('Prüfung 2 | Startliste'!H82=\"\",\"\",'Prüfung 2 | Startliste'!H82)","v":""},"",4]
["",76,{"$f":"IF('Prüfung 2 | Startliste'!A83=\"\",\"\",'Prüfung 2 | Startliste'!A83)","v":""},{"$f":"IF('Prüfung 2 | Startliste'!C83=\"\",\"\",'Prüfung 2 | Startliste'!C83)","v":""},{"$f":"IF('Prüfung 2 | Startliste'!D83=\"\",\"\",'Prüfung 2 | Startliste'!D83)","v":""},{"$f":"IF('Prüfung 2 | Startliste'!E83=\"\",\"\",'Prüfung 2 | Startliste'!E83)","v":""},{"$f":"IF('Prüfung 2 | Startliste'!F83=\"\",\"\",'Prüfung 2 | Startliste'!F83)","v":""},{"$f":"IF('Prüfung 2 | Startliste'!G83=\"\",\"\",'Prüfung 2 | Startliste'!G83)","v":""},{"$f":"IF('Prüfung 2 | Startliste'!H83=\"\",\"\",'Prüfung 2 | Startliste'!H83)","v":""},"",4]
["",77,{"$f":"IF('Prüfung 2 | Startliste'!A84=\"\",\"\",'Prüfung 2 | Startliste'!A84)","v":""},{"$f":"IF('Prüfung 2 | Startliste'!C84=\"\",\"\",'Prüfung 2 | Startliste'!C84)","v":""},{"$f":"IF('Prüfung 2 | Startliste'!D84=\"\",\"\",'Prüfung 2 | Startliste'!D84)","v":""},{"$f":"IF('Prüfung 2 | Startliste'!E84=\"\",\"\",'Prüfung 2 | Startliste'!E84)","v":""},{"$f":"IF('Prüfung 2 | Startliste'!F84=\"\",\"\",'Prüfung 2 | Startliste'!F84)","v":""},{"$f":"IF('Prüfung 2 | Startliste'!G84=\"\",\"\",'Prüfung 2 | Startliste'!G84)","v":""},{"$f":"IF('Prüfung 2 | Startliste'!H84=\"\",\"\",'Prüfung 2 | Startliste'!H84)","v":""},"",4]
["",78,{"$f":"IF('Prüfung 2 | Startliste'!A85=\"\",\"\",'Prüfung 2 | Startliste'!A85)","v":""},{"$f":"IF('Prüfung 2 | Startliste'!C85=\"\",\"\",'Prüfung 2 | Startliste'!C85)","v":""},{"$f":"IF('Prüfung 2 | Startliste'!D85=\"\",\"\",'Prüfung 2 | Startliste'!D85)","v":""},{"$f":"IF('Prüfung 2 | Startliste'!E85=\"\",\"\",'Prüfung 2 | Startliste'!E85)","v":""},{"$f":"IF('Prüfung 2 | Startliste'!F85=\"\",\"\",'Prüfung 2 | Startliste'!F85)","v":""},{"$f":"IF('Prüfung 2 | Startliste'!G85=\"\",\"\",'Prüfung 2 | Startliste'!G85)","v":""},{"$f":"IF('Prüfung 2 | Startliste'!H85=\"\",\"\",'Prüfung 2 | Startliste'!H85)","v":""},"",4]
["",79,{"$f":"IF('Prüfung 2 | Startliste'!A86=\"\",\"\",'Prüfung 2 | Startliste'!A86)","v":""},{"$f":"IF('Prüfung 2 | Startliste'!C86=\"\",\"\",'Prüfung 2 | Startliste'!C86)","v":""},{"$f":"IF('Prüfung 2 | Startliste'!D86=\"\",\"\",'Prüfung 2 | Startliste'!D86)","v":""},{"$f":"IF('Prüfung 2 | Startliste'!E86=\"\",\"\",'Prüfung 2 | Startliste'!E86)","v":""},{"$f":"IF('Prüfung 2 | Startliste'!F86=\"\",\"\",'Prüfung 2 | Startliste'!F86)","v":""},{"$f":"IF('Prüfung 2 | Startliste'!G86=\"\",\"\",'Prüfung 2 | Startliste'!G86)","v":""},{"$f":"IF('Prüfung 2 | Startliste'!H86=\"\",\"\",'Prüfung 2 | Startliste'!H86)","v":""},"",4]
["",80,{"$f":"IF('Prüfung 2 | Startliste'!A87=\"\",\"\",'Prüfung 2 | Startliste'!A87)","v":""},{"$f":"IF('Prüfung 2 | Startliste'!C87=\"\",\"\",'Prüfung 2 | Startliste'!C87)","v":""},{"$f":"IF('Prüfung 2 | Startliste'!D87=\"\",\"\",'Prüfung 2 | Startliste'!D87)","v":""},{"$f":"IF('Prüfung 2 | Startliste'!E87=\"\",\"\",'Prüfung 2 | Startliste'!E87)","v":""},{"$f":"IF('Prüfung 2 | Startliste'!F87=\"\",\"\",'Prüfung 2 | Startliste'!F87)","v":""},{"$f":"IF('Prüfung 2 | Startliste'!G87=\"\",\"\",'Prüfung 2 | Startliste'!G87)","v":""},{"$f":"IF('Prüfung 2 | Startliste'!H87=\"\",\"\",'Prüfung 2 | Startliste'!H87)","v":""},"",4]
["",81,{"$f":"IF('Prüfung 2 | Startliste'!A88=\"\",\"\",'Prüfung 2 | Startliste'!A88)","v":""},{"$f":"IF('Prüfung 2 | Startliste'!C88=\"\",\"\",'Prüfung 2 | Startliste'!C88)","v":""},{"$f":"IF('Prüfung 2 | Startliste'!D88=\"\",\"\",'Prüfung 2 | Startliste'!D88)","v":""},{"$f":"IF('Prüfung 2 | Startliste'!E88=\"\",\"\",'Prüfung 2 | Startliste'!E88)","v":""},{"$f":"IF('Prüfung 2 | Startliste'!F88=\"\",\"\",'Prüfung 2 | Startliste'!F88)","v":""},{"$f":"IF('Prüfung 2 | Startliste'!G88=\"\",\"\",'Prüfung 2 | Startliste'!G88)","v":""},{"$f":"IF('Prüfung 2 | Startliste'!H88=\"\",\"\",'Prüfung 2 | Startliste'!H88)","v":""},"",4]
["",82,{"$f":"IF('Prüfung 2 | Startliste'!A89=\"\",\"\",'Prüfung 2 | Startliste'!A89)","v":""},{"$f":"IF('Prüfung 2 | Startliste'!C89=\"\",\"\",'Prüfung 2 | Startliste'!C89)","v":""},{"$f":"IF('Prüfung 2 | Startliste'!D89=\"\",\"\",'Prüfung 2 | Startliste'!D89)","v":""},{"$f":"IF('Prüfung 2 | Startliste'!E89=\"\",\"\",'Prüfung 2 | Startliste'!E89)","v":""},{"$f":"IF('Prüfung 2 | Startliste'!F89=\"\",\"\",'Prüfung 2 | Startliste'!F89)","v":""},{"$f":"IF('Prüfung 2 | Startliste'!G89=\"\",\"\",'Prüfung 2 | Startliste'!G89)","v":""},{"$f":"IF('Prüfung 2 | Startliste'!H89=\"\",\"\",'Prüfung 2 | Startliste'!H89)","v":""},"",4]
["",83,{"$f":"IF('Prüfung 2 | Startliste'!A90=\"\",\"\",'Prüfung 2 | Startliste'!A90)","v":""},{"$f":"IF('Prüfung 2 | Startliste'!C90=\"\",\"\",'Prüfung 2 | Startliste'!C90)","v":""},{"$f":"IF('Prüfung 2 | Startliste'!D90=\"\",\"\",'Prüfung 2 | Startliste'!D90)","v":""},{"$f":"IF('Prüfung 2 | Startliste'!E90=\"\",\"\",'Prüfung 2 | Startliste'!E90)","v":""},{"$f":"IF('Prüfung 2 | Startliste'!F90=\"\",\"\",'Prüfung 2 | Startliste'!F90)","v":""},{"$f":"IF('Prüfung 2 | Startliste'!G90=\"\",\"\",'Prüfung 2 | Startliste'!G90)","v":""},{"$f":"IF('Prüfung 2 | Startliste'!H90=\"\",\"\",'Prüfung 2 | Startliste'!H90)","v":""},"",4]
["",84,{"$f":"IF('Prüfung 2 | Startliste'!A91=\"\",\"\",'Prüfung 2 | Startliste'!A91)","v":""},{"$f":"IF('Prüfung 2 | Startliste'!C91=\"\",\"\",'Prüfung 2 | Startliste'!C91)","v":""},{"$f":"IF('Prüfung 2 | Startliste'!D91=\"\",\"\",'Prüfung 2 | Startliste'!D91)","v":""},{"$f":"IF('Prüfung 2 | Startliste'!E91=\"\",\"\",'Prüfung 2 | Startliste'!E91)","v":""},{"$f":"IF('Prüfung 2 | Startliste'!F91=\"\",\"\",'Prüfung 2 | Startliste'!F91)","v":""},{"$f":"IF('Prüfung 2 | Startliste'!G91=\"\",\"\",'Prüfung 2 | Startliste'!G91)","v":""},{"$f":"IF('Prüfung 2 | Startliste'!H91=\"\",\"\",'Prüfung 2 | Startliste'!H91)","v":""},"",4]
["",85,{"$f":"IF('Prüfung 2 | Startliste'!A92=\"\",\"\",'Prüfung 2 | Startliste'!A92)","v":""},{"$f":"IF('Prüfung 2 | Startliste'!C92=\"\",\"\",'Prüfung 2 | Startliste'!C92)","v":""},{"$f":"IF('Prüfung 2 | Startliste'!D92=\"\",\"\",'Prüfung 2 | Startliste'!D92)","v":""},{"$f":"IF('Prüfung 2 | Startliste'!E92=\"\",\"\",'Prüfung 2 | Startliste'!E92)","v":""},{"$f":"IF('Prüfung 2 | Startliste'!F92=\"\",\"\",'Prüfung 2 | Startliste'!F92)","v":""},{"$f":"IF('Prüfung 2 | Startliste'!G92=\"\",\"\",'Prüfung 2 | Startliste'!G92)","v":""},{"$f":"IF('Prüfung 2 | Startliste'!H92=\"\",\"\",'Prüfung 2 | Startliste'!H92)","v":""},"",4]
["",86,{"$f":"IF('Prüfung 2 | Startliste'!A93=\"\",\"\",'Prüfung 2 | Startliste'!A93)","v":""},{"$f":"IF('Prüfung 2 | Startliste'!C93=\"\",\"\",'Prüfung 2 | Startliste'!C93)","v":""},{"$f":"IF('Prüfung 2 | Startliste'!D93=\"\",\"\",'Prüfung 2 | Startliste'!D93)","v":""},{"$f":"IF('Prüfung 2 | Startliste'!E93=\"\",\"\",'Prüfung 2 | Startliste'!E93)","v":""},{"$f":"IF('Prüfung 2 | Startliste'!F93=\"\",\"\",'Prüfung 2 | Startliste'!F93)","v":""},{"$f":"IF('Prüfung 2 | Startliste'!G93=\"\",\"\",'Prüfung 2 | Startliste'!G93)","v":""},{"$f":"IF('Prüfung 2 | Startliste'!H93=\"\",\"\",'Prüfung 2 | Startliste'!H93)","v":""},"",4]
["",87,{"$f":"IF('Prüfung 2 | Startliste'!A94=\"\",\"\",'Prüfung 2 | Startliste'!A94)","v":""},{"$f":"IF('Prüfung 2 | Startliste'!C94=\"\",\"\",'Prüfung 2 | Startliste'!C94)","v":""},{"$f":"IF('Prüfung 2 | Startliste'!D94=\"\",\"\",'Prüfung 2 | Startliste'!D94)","v":""},{"$f":"IF('Prüfung 2 | Startliste'!E94=\"\",\"\",'Prüfung 2 | Startliste'!E94)","v":""},{"$f":"IF('Prüfung 2 | Startliste'!F94=\"\",\"\",'Prüfung 2 | Startliste'!F94)","v":""},{"$f":"IF('Prüfung 2 | Startliste'!G94=\"\",\"\",'Prüfung 2 | Startliste'!G94)","v":""},{"$f":"IF('Prüfung 2 | Startliste'!H94=\"\",\"\",'Prüfung 2 | Startliste'!H94)","v":""},"",4]
["",88,{"$f":"IF('Prüfung 2 | Startliste'!A95=\"\",\"\",'Prüfung 2 | Startliste'!A95)","v":""},{"$f":"IF('Prüfung 2 | Startliste'!C95=\"\",\"\",'Prüfung 2 | Startliste'!C95)","v":""},{"$f":"IF('Prüfung 2 | Startliste'!D95=\"\",\"\",'Prüfung 2 | Startliste'!D95)","v":""},{"$f":"IF('Prüfung 2 | Startliste'!E95=\"\",\"\",'Prüfung 2 | Startliste'!E95)","v":""},{"$f":"IF('Prüfung 2 | Startliste'!F95=\"\",\"\",'Prüfung 2 | Startliste'!F95)","v":""},{"$f":"IF('Prüfung 2 | Startliste'!G95=\"\",\"\",'Prüfung 2 | Startliste'!G95)","v":""},{"$f":"IF('Prüfung 2 | Startliste'!H95=\"\",\"\",'Prüfung 2 | Startliste'!H95)","v":""},"",4]
["",89,{"$f":"IF('Prüfung 2 | Startliste'!A96=\"\",\"\",'Prüfung 2 | Startliste'!A96)","v":""},{"$f":"IF('Prüfung 2 | Startliste'!C96=\"\",\"\",'Prüfung 2 | Startliste'!C96)","v":""},{"$f":"IF('Prüfung 2 | Startliste'!D96=\"\",\"\",'Prüfung 2 | Startliste'!D96)","v":""},{"$f":"IF('Prüfung 2 | Startliste'!E96=\"\",\"\",'Prüfung 2 | Startliste'!E96)","v":""},{"$f":"IF('Prüfung 2 | Startliste'!F96=\"\",\"\",'Prüfung 2 | Startliste'!F96)","v":""},{"$f":"IF('Prüfung 2 | Startliste'!G96=\"\",\"\",'Prüfung 2 | Startliste'!G96)","v":""},{"$f":"IF('Prüfung 2 | Startliste'!H96=\"\",\"\",'Prüfung 2 | Startliste'!H96)","v":""},"",4]
["",90,{"$f":"IF('Prüfung 2 | Startliste'!A97=\"\",\"\",'Prüfung 2 | Startliste'!A97)","v":""},{"$f":"IF('Prüfung 2 | Startliste'!C97=\"\",\"\",'Prüfung 2 | Startliste'!C97)","v":""},{"$f":"IF('Prüfung 2 | Startliste'!D97=\"\",\"\",'Prüfung 2 | Startliste'!D97)","v":""},{"$f":"IF('Prüfung 2 | Startliste'!E97=\"\",\"\",'Prüfung 2 | Startliste'!E97)","v":""},{"$f":"IF('Prüfung 2 | Startliste'!F97=\"\",\"\",'Prüfung 2 | Startliste'!F97)","v":""},{"$f":"IF('Prüfung 2 | Startliste'!G97=\"\",\"\",'Prüfung 2 | Startliste'!G97)","v":""},{"$f":"IF('Prüfung 2 | Startliste'!H97=\"\",\"\",'Prüfung 2 | Startliste'!H97)","v":""},"",4]

{"sheet":"dropdownliste","index":4,"n_rows":3,"n_cols":1,"rows_kept":3,"cut":false,"hidden":false,"merged":[]}
["HC"]
[]
["NS"]